Workbook

Sheet Rekapitulácia stavby
A1: 2012 | D1: Hárok obsahuje: | K1: 1) Súhrnný list stavby | W1: 2) Rekapitulácia objektov | BA1: 2.0 | BT1: False | BU1: False
C2: optimalizované pre tlač zostáv vo formáte A4 - na výšku | AR2: >> skryté stĺpce << | BS2: 0,01 | BT2: 20
BS3: 0,01 | BT3: 20
C4: SÚHRNNÝ LIST STAVBY | AS4: v --- nižšie sa nachádzajú doplnkové a pomocné údaje k zostavám --- v | BS4: 0,001
D5: Kód: | K5: 1119 | BS5: 0,01
D6: Stavba: | K6: Zníženie energetickej náročnosti spoločnosti Kovomont-PO, Výrobná hala č.1 + administratívna budova | BS6: 0,01
D7: JKSO: | AK7: KS: | BS7: 0,01
D8: Miesto: | K8: Prešov | AK8: Dátum: | AN8: 43896 | BS8: 0,01
BS9: 0,01
D10: Objednávateľ: | AK10: IČO: | BS10: 0,01
E11: Kovomont - PO s.r.o., Prešov | AK11: IČO DPH: | BS11: 0,01
BS12: 0,01
D13: Zhotoviteľ: | AK13: IČO: | BS13: 0,01
AK14: IČO DPH: | BS14: 0,01
BS15: False
D16: Projektant: | AK16: IČO: | BS16: False
E17: ing. M. Kovaľ, Prešov | AK17: IČO DPH: | BS17: True
BS18: 0,01
D19: Spracovateľ: | AK19: IČO: | BS19: 0,01
AK20: IČO DPH:
D22: Poznámka:
D26: Náklady z rozpočtov | AK26: =ROUND(AG87,2) -> 0
D27: Ostatné náklady zo súhrnného listu | AK27: =ROUND(AG94,2) -> 0
D29: Cena bez DPH | AK29: =ROUND(AK26+AK27,2) -> 0
D31: DPH | F31: základná | L31: 0.2 | T31: z | W31: 0 | AK31: =0.2*W31 -> 0
F32: znížená | L32: 0.2 | T32: z | W32: =AK29 -> 0 | AK32: =0.2*W32 -> 0
F33: zákl. prenesená | L33: 0.2 | T33: z | W33: =ROUND(BB87+SUM(CF95),2) -> #REF! | AK33: 0
F34: zníž. prenesená | L34: 0.2 | T34: z | W34: =ROUND(BC87+SUM(CG95),2) -> #REF! | AK34: 0
F35: nulová | L35: 0 | T35: z | W35: =ROUND(BD87+SUM(CH95),2) -> #REF! | AK35: 0
D37: Cena s DPH | T37: v | X37: EUR | AK37: =SUM(AK29:AK35) -> 0
D49: Projektant | AC49: Spracovateľ
D58: Dátum a podpis: | R58: Pečiatka | AC58: Dátum a podpis: | AM58: Pečiatka
D60: Objednávateľ | AC60: Zhotoviteľ
D69: Dátum a podpis: | R69: Pečiatka | AC69: Dátum a podpis: | AM69: Pečiatka
C76: REKAPITULÁCIA OBJEKTOV STAVBY
C77: Kód: | L77: =K5 -> 1119
C78: Stavba: | L78: =K6 -> Zníženie energetickej náročnosti spoločnosti Kovomont-PO, Výrobná hala č.1 + administratívna budova
C80: Miesto: | L80: =IF(K8="","",K8) -> Prešov | AI80: Dátum: | AM80: =AN8 -> 43896
C82: Objednávateľ: | L82: =IF(E11= "","",E11) -> Kovomont - PO s.r.o., Prešov | AI82: Projektant: | AM82: =IF(E17="","",E17) -> ing. M. Kovaľ, Prešov | AS82: Informatívne údaje z listov zákaziek
C83: Zhotoviteľ: | L83: =IF(E14="","",E14) | AI83: Spracovateľ: | AM83: =IF(E20="","",E20)
C85: Kód | I85: Objekt | AG85: Cena bez DPH [EUR] | AN85: Cena s DPH [EUR] | AS85: z toho Ostat._x000D_ náklady [EUR] | AT85: DPH [EUR] | AU85: Normohodiny [h] | AV85: DPH základná [EUR] | AW85: DPH znížená [EUR] | AX85: DPH základná prenesená_x000D_ [EUR] | AY85: DPH znížená prenesená_x000D_ [EUR] | AZ85: Základňa_x000D_ DPH základná | BA85: Základňa_x000D_ DPH znížená | BB85: Základňa_x000D_ DPH zákl. prenesená | BC85: Základňa_x000D_ DPH zníž. prenesená | BD85: Základňa_x000D_ DPH nulová
C87: 1) Náklady z rozpočtov | AG87: =ROUND(SUM(AG88:AG92),2) -> 0 | AN87: =SUM(AN88:AP92) -> 0 | AS87: =ROUND(SUM(AS88:AS92),2) -> #REF! | AT87: =ROUND(SUM(AV87:AW87),2) -> #REF! | AU87: =ROUND(SUM(AU88:AU92),5) -> #REF! | AV87: =ROUND(AZ87*L31,2) -> #REF! | AW87: =ROUND(BA87*L32,2) -> #REF! | AX87: =ROUND(BB87*L31,2) -> #REF! | AY87: =ROUND(BC87*L32,2) -> #REF! | AZ87: =ROUND(SUM(AZ88:AZ92),2) -> #REF! | BA87: =ROUND(SUM(BA88:BA92),2) -> #REF! | BB87: =ROUND(SUM(BB88:BB92),2) -> #REF! | BC87: =ROUND(SUM(BC88:BC92),2) -> #REF! | BD87: =ROUND(SUM(BD88:BD92),2) -> #REF! | BS87: D | BT87: 0 | BU87: ###NOIMPORT### | BV87: IMPORT | BW87: {1a555058-5cc0-4afc-bf2c-0c3ef9bd6e9f} | BX87: {00000000-0000-0000-0000-000000000000}
D88: 01 | J88: SO 102 - Hala 1 - Zateplenie obvodových stien | AG88: ='01 - Zateplenie obvodovýc...'!M30 -> 0 | AN88: =1.2*AG88 -> 0 | AS88: ='01 - Zateplenie obvodovýc...'!M28 -> 0 | AT88: =ROUND(SUM(AV88:AW88),2) -> 0 | AU88: ='01 - Zateplenie obvodovýc...'!W113 -> 836.96655 | AV88: ='01 - Zateplenie obvodovýc...'!M32 -> 0 | AW88: ='01 - Zateplenie obvodovýc...'!M33 -> 0 | AX88: ='01 - Zateplenie obvodovýc...'!M34 -> 0 | AY88: ='01 - Zateplenie obvodovýc...'!M35 -> 0 | AZ88: ='01 - Zateplenie obvodovýc...'!H32 -> 0 | BA88: ='01 - Zateplenie obvodovýc...'!H33 -> 0 | BB88: ='01 - Zateplenie obvodovýc...'!H34 -> 0 | BC88: ='01 - Zateplenie obvodovýc...'!H35 -> 0 | BD88: ='01 - Zateplenie obvodovýc...'!H36 -> 0 | BT88: 1 | BV88: IMPORT | BW88: {97f5ca0b-9e30-4fd4-ba44-79fcdda6c024} | BX88: {1a555058-5cc0-4afc-bf2c-0c3ef9bd6e9f}
D89: 02 | J89: SO 102 - Hala 1 - Zateplenie strechy | AG89: ='02 - Zateplenie strechy'!M30 -> 0 | AN89: =1.2*AG89 -> 0 | AS89: ='02 - Zateplenie strechy'!M28 -> 0 | AT89: =ROUND(SUM(AV89:AW89),2) -> 0 | AU89: ='02 - Zateplenie strechy'!W119 -> 867.87403 | AV89: ='02 - Zateplenie strechy'!M32 -> 0 | AW89: ='02 - Zateplenie strechy'!M33 -> 0 | AX89: ='02 - Zateplenie strechy'!M34 -> 0 | AY89: ='02 - Zateplenie strechy'!M35 -> 0 | AZ89: ='02 - Zateplenie strechy'!H32 -> 0 | BA89: ='02 - Zateplenie strechy'!H33 -> 0 | BB89: ='02 - Zateplenie strechy'!H34 -> 0 | BC89: ='02 - Zateplenie strechy'!H35 -> 0 | BD89: ='02 - Zateplenie strechy'!H36 -> 0 | BT89: 1 | BV89: IMPORT | BW89: {654d6d05-fff5-40f6-94a7-79a6dac6285f} | BX89: {1a555058-5cc0-4afc-bf2c-0c3ef9bd6e9f}
D90: 03 | J90: SO 102 - Hala 1 - Výplne otvorov | AG90: ='03 - Výplne otvorov'!M30 -> 0 | AN90: =1.2*AG90 -> 0 | AS90: ='03 - Výplne otvorov'!M28 -> 0 | AT90: =ROUND(SUM(AV90:AW90),2) -> 0 | AU90: ='03 - Výplne otvorov'!W118 -> 383.38549 | AV90: ='03 - Výplne otvorov'!M32 -> 0 | AW90: ='03 - Výplne otvorov'!M33 -> 0 | AX90: ='03 - Výplne otvorov'!M34 -> 0 | AY90: ='03 - Výplne otvorov'!M35 -> 0 | AZ90: ='03 - Výplne otvorov'!H32 -> 0 | BA90: ='03 - Výplne otvorov'!H33 -> 0 | BB90: ='03 - Výplne otvorov'!H34 -> 0 | BC90: ='03 - Výplne otvorov'!H35 -> 0 | BD90: ='03 - Výplne otvorov'!H36 -> 0 | BT90: 1 | BV90: IMPORT | BW90: {558c5fd4-af76-49f1-8d16-6e234fc38de4} | BX90: {1a555058-5cc0-4afc-bf2c-0c3ef9bd6e9f}
D91: 04 | J91: SO 102 - Hala 1 - Ostatné | AG91: ='04 - Ostatné'!M30 -> 0 | AN91: =1.2*AG91 -> 0 | AS91: =#REF! -> #REF! | AT91: =ROUND(SUM(AV91:AW91),2) -> #REF! | AU91: =#REF! -> #REF! | AV91: =#REF! -> #REF! | AW91: =#REF! -> #REF! | AX91: =#REF! -> #REF! | AY91: =#REF! -> #REF! | AZ91: =#REF! -> #REF! | BA91: =#REF! -> #REF! | BB91: =#REF! -> #REF! | ... BD91: =#REF! -> #REF! | BT91: 1 | BV91: IMPORT | BW91: {ea3a6c42-8e58-411c-a0da-ee125edc713d} | BX91: {1a555058-5cc0-4afc-bf2c-0c3ef9bd6e9f}
D92: 05 | J92: SO 101 - AB - Ostatné | AG92: ='05 - AB - Ostatné'!M30 -> 0 | AN92: =1.2*AG92 -> 0 | AS92: =#REF! -> #REF! | AT92: =ROUND(SUM(AV92:AW92),2) -> #REF! | AU92: =#REF! -> #REF! | AV92: =#REF! -> #REF! | AW92: =#REF! -> #REF! | AX92: =#REF! -> #REF! | AY92: =#REF! -> #REF! | AZ92: =#REF! -> #REF! | BA92: =#REF! -> #REF! | BB92: =#REF! -> #REF! | ... BD92: =#REF! -> #REF! | BT92: 1 | BV92: IMPORT | BW92: {ea3a6c42-8e58-411c-a0da-ee125edc713d} | BX92: {1a555058-5cc0-4afc-bf2c-0c3ef9bd6e9f}
C94: 2) Ostatné náklady zo súhrnného listu | AG94: 0 | AN94: 0 | AS94: Percent. zadanie_x000D_ [% nákladov rozpočtu] | AT94: Zaradenie nákladov | AU94: DPH | AV94: DPH [EUR]
C96: Celkové náklady za stavbu 1) + 2) | AG96: =AG87+AG94 -> 0 | AN96: =AN87+AN94 -> 0

Sheet 01 - Zateplenie obvodovýc...
D1: Hárok obsahuje: | F1: 1) Krycí list rozpočtu | H1: 2) Rekapitulácia rozpočtu | L1: 3) Rozpočet | O1: Späť na hárok: | S1: Rekapitulácia stavby
C2: optimalizované pre tlač zostáv vo formáte A4 - na výšku | S2: >> skryté stĺpce << | AT2: {97f5ca0b-9e30-4fd4-ba44-79fcdda6c024}
AT3: 0
C4: KRYCÍ LIST ROZPOČTU | T4: v --- nižšie sa nachádzajú doplnkové a pomocné údaje k zostavám --- v | AT4: False
D6: Stavba: | F6: ='Rekapitulácia stavby'!K6 -> Zníženie energetickej náročnosti spoločnosti Kovomont-PO, Výrobná hala č.1 + administratívna budova
D7: Objekt: | F7: 01 - SO 102 - Hala 1 - Zateplenie obvodových stien
D8: JKSO: | M8: KS:
D9: Miesto: | F9: Prešov | M9: Dátum: | O9: ='Rekapitulácia stavby'!AN8 -> 43896
D11: Objednávateľ: | M11: IČO:
E12: Kovomont - PO s.r.o., Prešov | M12: IČO DPH:
D14: Zhotoviteľ: | M14: IČO: | O14: =IF('Rekapitulácia stavby'!AN13="","",'Rekapitulácia stavby'!AN13)
E15: =IF('Rekapitulácia stavby'!E14="","",'Rekapitulácia stavby'!E14) | M15: IČO DPH: | O15: =IF('Rekapitulácia stavby'!AN14="","",'Rekapitulácia stavby'!AN14)
D17: Projektant: | M17: IČO:
E18: ing. M. Kovaľ, Prešov | M18: IČO DPH:
D20: Spracovateľ: | M20: IČO: | O20: =IF('Rekapitulácia stavby'!AN19="","",'Rekapitulácia stavby'!AN19)
E21: =IF('Rekapitulácia stavby'!E20="","",'Rekapitulácia stavby'!E20) | M21: IČO DPH: | O21: =IF('Rekapitulácia stavby'!AN20="","",'Rekapitulácia stavby'!AN20)
D23: Poznámka:
D27: Náklady z rozpočtu | M27: =N88 -> 0
D28: Ostatné náklady | M28: =N94 -> 0
D30: Cena bez DPH | M30: =ROUND(M27+M28,2) -> 0
D32: DPH | E32: základná | F32: 0.2 | G32: z | H32: =ROUND((SUM(BE94:BE95)+SUM(BE113:BE144)), 2) -> 0 | M32: =ROUND(ROUND((SUM(BE94:BE95)+SUM(BE113:BE144)), 2)*F32, 2) -> 0
E33: znížená | F33: 0.2 | G33: z | H33: =ROUND((SUM(BF94:BF95)+SUM(BF113:BF144)), 2) -> 0 | M33: =ROUND(ROUND((SUM(BF94:BF95)+SUM(BF113:BF144)), 2)*F33, 2) -> 0
E34: zákl. prenesená | F34: 0.2 | G34: z | H34: =ROUND((SUM(BG94:BG95)+SUM(BG113:BG144)), 2) -> 0 | M34: 0
E35: zníž. prenesená | F35: 0.2 | G35: z | H35: =ROUND((SUM(BH94:BH95)+SUM(BH113:BH144)), 2) -> 0 | M35: 0
E36: nulová | F36: 0 | G36: z | H36: =ROUND((SUM(BI94:BI95)+SUM(BI113:BI144)), 2) -> 0 | M36: 0
D38: Cena s DPH | G38: v | H38: EUR | L38: =SUM(M30:M36) -> 0
D50: Projektant | J50: Spracovateľ
D59: Dátum a podpis: | G59: Pečiatka | J59: Dátum a podpis: | N59: Pečiatka
D61: Objednávateľ | J61: Zhotoviteľ
D70: Dátum a podpis: | G70: Pečiatka | J70: Dátum a podpis: | N70: Pečiatka
C76: REKAPITULÁCIA ROZPOČTU
C78: Stavba: | F78: =F6 -> Zníženie energetickej náročnosti spoločnosti Kovomont-PO, Výrobná hala č.1 + administratívna budova
C79: Objekt: | F79: =F7 -> 01 - SO 102 - Hala 1 - Zateplenie obvodových stien
C81: Miesto: | F81: =F9 -> Prešov | K81: Dátum: | M81: =IF(O9="","",O9) -> 43896
C83: Objednávateľ: | F83: =E12 -> Kovomont - PO s.r.o., Prešov | K83: Projektant: | M83: =E18 -> ing. M. Kovaľ, Prešov
C84: Zhotoviteľ: | F84: =IF(E15="","",E15) | K84: Spracovateľ: | M84: =E21
C86: Kód - Popis | N86: Cena celkom [EUR]
C88: 1) Náklady z rozpočtu | N88: =N113 -> 0 | AU88: -1
D89: HSV - Práce a dodávky HSV | N89: =N114 -> 0
D90: 6 - Úpravy povrchov, podlahy, osadenie | N90: =N115 -> 0
D91: 9 - Ostatné konštrukcie a práce-búranie | N91: =N128 -> 0
D92: 99 - Presun hmôt HSV | N92: =N143 -> 0
C94: 2) Ostatné náklady | N94: 0 | U94: DPH
C96: Celkové náklady za stavbu 1) + 2) | L96: =ROUND(SUM(N88+N94),2) -> 0
C102: ROZPOČET
C104: Stavba: | F104: =F6 -> Zníženie energetickej náročnosti spoločnosti Kovomont-PO, Výrobná hala č.1 + administratívna budova
C105: Objekt: | F105: =F7 -> 01 - SO 102 - Hala 1 - Zateplenie obvodových stien
C107: Miesto: | F107: =F9 -> Prešov | K107: Dátum: | M107: =IF(O9="","",O9) -> 43896
C109: Objednávateľ: | F109: =E12 -> Kovomont - PO s.r.o., Prešov | K109: Projektant: | M109: =E18 -> ing. M. Kovaľ, Prešov
C110: Zhotoviteľ: | F110: =IF(E15="","",E15) | K110: Spracovateľ: | M110: =E21
C112: PČ | D112: Typ | E112: Kód | F112: Popis | J112: MJ | K112: Množstvo | L112: J.cena [EUR] | N112: Cena celkom [EUR] | T112: Poznámka | U112: DPH | V112: J. Nh [h] | W112: Nh celkom [h] | X112: J. hmotnosť_x000D_ [t] | Y112: Hmotnosť_x000D_ celkom [t] | Z112: J. suť [t] | AA112: Suť Celkom [t]
C113: Náklady z rozpočtu | N113: =BK113 -> 0 | W113: =W114 -> 836.96655 | Y113: =Y114 -> 40.590086 | AA113: =AA114 -> 1.96156 | AT113: D | AU113: -1 | BK113: =BK114 -> 0
D114: HSV - Práce a dodávky HSV | N114: =BK114 -> 0 | W114: =W115+W128+W143 -> 836.96655 | Y114: =Y115+Y128+Y143 -> 40.590086 | AA114: =AA115+AA128+AA143 -> 1.96156 | AR114: 1 | AT114: D | AU114: 0 | AY114: ROZPOCET | BK114: =BK115+BK128+BK143 -> 0
D115: 6 - Úpravy povrchov, podlahy, osadenie | N115: =BK115 -> 0 | W115: =SUM(W116:W127) -> 576.25199 | Y115: =SUM(Y116:Y127) -> 12.240936 | AA115: =SUM(AA116:AA127) -> 0 | AR115: 1 | AT115: D | AU115: 1 | AY115: ROZPOCET | BK115: =SUM(BK116:BK127) -> 0
C116: 1 | D116: K | E116: 622462522 | F116: Vonkajšia omietka stien tenkovrstvová mozaiková zrnitosť 1,8 mm - ZS2 | J116: m2 | K116: 22.04 | N116: =ROUND(L116*K116,2) -> 0 | U116: znížená | V116: 0.48087 | W116: =V116*K116 -> 10.598375 | X116: 0.00425 | Y116: =X116*K116 -> 0.09367 | Z116: 0 | AA116: =Z116*K116 -> 0 | AR116: 4 | AT116: K | AU116: 2 | AY116: ROZPOCET | BE116: =IF(U116="základná",N116,0) -> 0 | BF116: =IF(U116="znížená",N116,0) -> 0 | BG116: =IF(U116="zákl. prenesená",N116,0) -> 0 | BH116: =IF(U116="zníž. prenesená",N116,0) -> 0 | BI116: =IF(U116="nulová",N116,0) -> 0 | BJ116: 2 | BK116: =ROUND(L116*K116,2) -> 0 | BL116: 4 | BM116: 1036155537
C117: 2 | D117: K | E117: 622462572 | F117: Vonkajšia omietka stien tenkovrstvová silikónová so zatieranou štruktúrou hr.zrna 1,5 mm - ZS1 | J117: m2 | K117: 400.303 | N117: =ROUND(L117*K117,2) -> 0 | U117: znížená | V117: 0.401 | W117: =V117*K117 -> 160.5215 | X117: 0.00245 | Y117: =X117*K117 -> 0.98074235 | Z117: 0 | AA117: =Z117*K117 -> 0 | AR117: 4 | AT117: K | AU117: 2 | AY117: ROZPOCET | BE117: =IF(U117="základná",N117,0) -> 0 | BF117: =IF(U117="znížená",N117,0) -> 0 | BG117: =IF(U117="zákl. prenesená",N117,0) -> 0 | BH117: =IF(U117="zníž. prenesená",N117,0) -> 0 | BI117: =IF(U117="nulová",N117,0) -> 0 | BJ117: 2 | BK117: =ROUND(L117*K117,2) -> 0 | BL117: 4 | BM117: 582745959
F118: 352,24+0,25*192,25 | K118: 400.303 | AT118: VV | AU118: 2 | AV118: 2 | AW118: True | AX118: 1 | AY118: ROZPOCET
C119: 3 | D119: K | E119: 625250055R | F119: Kontaktný zatepľovací systém hr. 100 mm - dosky z MW, skrutkovacie kotvy, na sendvičový panel lepené pružným lepidlom | J119: m2 | K119: 352.24 | N119: =ROUND(L119*K119,2) -> 0 | U119: znížená | V119: 0.919 | W119: =V119*K119 -> 323.70856 | X119: 0.02806 | Y119: =X119*K119 -> 9.8838544 | Z119: 0 | AA119: =Z119*K119 -> 0 | AR119: 4 | AT119: K | AU119: 2 | AY119: ROZPOCET | BE119: =IF(U119="základná",N119,0) -> 0 | BF119: =IF(U119="znížená",N119,0) -> 0 | BG119: =IF(U119="zákl. prenesená",N119,0) -> 0 | BH119: =IF(U119="zníž. prenesená",N119,0) -> 0 | BI119: =IF(U119="nulová",N119,0) -> 0 | BJ119: 2 | BK119: =ROUND(L119*K119,2) -> 0 | BL119: 4 | BM119: -292728520
F120: ZS1 | AT120: VV | AU120: 2 | AV120: 1 | AW120: True | AX120: 0 | AY120: ROZPOCET
F121: 352,24 | K121: 352.24 | AT121: VV | AU121: 2 | AV121: 2 | AW121: True | AX121: 1 | AY121: ROZPOCET
C122: 4 | D122: K | E122: 625250069R | F122: Kontaktný zatepľovací systém ostenia hr. 50 mm - MW, skrutkovacie kotvy, na sendvičový panel lepené pružným lepidlom | J122: m2 | K122: 48.063 | N122: =ROUND(L122*K122,2) -> 0 | U122: znížená | V122: 1.33 | W122: =V122*K122 -> 63.92379 | X122: 0.01974 | Y122: =X122*K122 -> 0.94876362 | Z122: 0 | AA122: =Z122*K122 -> 0 | AR122: 4 | AT122: K | AU122: 2 | AY122: ROZPOCET | BE122: =IF(U122="základná",N122,0) -> 0 | BF122: =IF(U122="znížená",N122,0) -> 0 | BG122: =IF(U122="zákl. prenesená",N122,0) -> 0 | BH122: =IF(U122="zníž. prenesená",N122,0) -> 0 | BI122: =IF(U122="nulová",N122,0) -> 0 | BJ122: 2 | BK122: =ROUND(L122*K122,2) -> 0 | BL122: 4 | BM122: -962642607
F123: ZS1 - ostenie | AT123: VV | AU123: 2 | AV123: 1 | AW123: True | AX123: 0 | AY123: ROZPOCET
F124: 192,25*0,25 | K124: 48.063 | AT124: VV | AU124: 2 | AV124: 2 | AW124: True | AX124: 1 | AY124: ROZPOCET
C125: 5 | D125: K | E125: 625250155 | F125: Doteplenie konštrukcie hr. 80 mm, systém XPS STYRODUR 2800 C - PCI, lepený rámovo s prikotvením | J125: m2 | K125: 22.04 | N125: =ROUND(L125*K125,2) -> 0 | U125: znížená | V125: 0.794 | W125: =V125*K125 -> 17.49976 | X125: 0.01515 | Y125: =X125*K125 -> 0.333906 | Z125: 0 | AA125: =Z125*K125 -> 0 | AR125: 4 | AT125: K | AU125: 2 | AY125: ROZPOCET | BE125: =IF(U125="základná",N125,0) -> 0 | BF125: =IF(U125="znížená",N125,0) -> 0 | BG125: =IF(U125="zákl. prenesená",N125,0) -> 0 | BH125: =IF(U125="zníž. prenesená",N125,0) -> 0 | BI125: =IF(U125="nulová",N125,0) -> 0 | BJ125: 2 | BK125: =ROUND(L125*K125,2) -> 0 | BL125: 4 | BM125: -1620926754
F126: ZS2 | AT126: VV | AU126: 2 | AV126: 1 | AW126: True | AX126: 0 | AY126: ROZPOCET
F127: 22,04 | K127: 22.04 | AT127: VV | AU127: 2 | AV127: 2 | AW127: True | AX127: 1 | AY127: ROZPOCET
D128: 9 - Ostatné konštrukcie a práce-búranie | N128: =BK128 -> 0 | W128: =SUM(W129:W142) -> 160.74139 | Y128: =SUM(Y129:Y142) -> 28.34915 | AA128: =SUM(AA129:AA142) -> 1.96156 | AR128: 1 | AT128: D | AU128: 1 | AY128: ROZPOCET | BK128: =SUM(BK129:BK142) -> 0
C129: 6 | D129: K | E129: 941941041 | F129: Montáž lešenia ľahkého pracovného radového s podlahami šírky nad 1,00 do 1,20 m, výšky do 10 m | J129: m2 | K129: 551.111 | N129: =ROUND(L129*K129,2) -> 0 | U129: znížená | V129: 0.146 | W129: =V129*K129 -> 80.462206 | X129: 0.02572 | Y129: =X129*K129 -> 14.174575 | Z129: 0 | AA129: =Z129*K129 -> 0 | AR129: 4 | AT129: K | AU129: 2 | AY129: ROZPOCET | BE129: =IF(U129="základná",N129,0) -> 0 | BF129: =IF(U129="znížená",N129,0) -> 0 | BG129: =IF(U129="zákl. prenesená",N129,0) -> 0 | BH129: =IF(U129="zníž. prenesená",N129,0) -> 0 | BI129: =IF(U129="nulová",N129,0) -> 0 | BJ129: 2 | BK129: =ROUND(L129*K129,2) -> 0 | BL129: 4 | BM129: 1405781509
F130: lešenie pre fasádu | AT130: VV | AU130: 2 | AV130: 1 | AW130: True | AX130: 0 | AY130: ROZPOCET
F131: 9,25*(1,575+5,425*2+0,66+0,585) | K131: 126.448 | AT131: VV | AU131: 2 | AV131: 2 | AW131: True | AX131: 0 | AY131: ROZPOCET
F132: (9,25-6,51)*(8,78+6,37) | K132: 41.511 | AT132: VV | AU132: 2 | AV132: 2 | AW132: True | AX132: 0 | AY132: ROZPOCET
F133: 10,075*(18+18,83+1,2) | K133: 383.152 | AT133: VV | AU133: 2 | AV133: 2 | AW133: True | AX133: 0 | AY133: ROZPOCET
F134: Súčet | K134: 551.111 | AT134: VV | AU134: 2 | AV134: 4 | AW134: True | AX134: 1 | AY134: ROZPOCET
C135: 7 | D135: K | E135: 941941291 | F135: Príplatok za prvý a každý ďalší i začatý mesiac použitia lešenia ľahkého pracovného radového s podlahami šírky nad 1,00 do 1,20 m, výšky do 10 m | J135: m2 | K135: 1653.333 | N135: =ROUND(L135*K135,2) -> 0 | U135: znížená | V135: 0.006 | W135: =V135*K135 -> 9.919998 | X135: 0 | Y135: =X135*K135 -> 0 | Z135: 0 | AA135: =Z135*K135 -> 0 | AR135: 4 | AT135: K | AU135: 2 | AY135: ROZPOCET | BE135: =IF(U135="základná",N135,0) -> 0 | BF135: =IF(U135="znížená",N135,0) -> 0 | BG135: =IF(U135="zákl. prenesená",N135,0) -> 0 | BH135: =IF(U135="zníž. prenesená",N135,0) -> 0 | BI135: =IF(U135="nulová",N135,0) -> 0 | BJ135: 2 | BK135: =ROUND(L135*K135,2) -> 0 | BL135: 4 | BM135: -641859759
C136: 8 | D136: K | E136: 941941841 | F136: Demontáž lešenia ľahkého pracovného radového s podlahami šírky nad 1,00 do 1,20 m, výšky do 10 m | J136: m2 | K136: 551.111 | N136: =ROUND(L136*K136,2) -> 0 | U136: znížená | V136: 0.104 | W136: =V136*K136 -> 57.315544 | X136: 0.02572 | Y136: =X136*K136 -> 14.174575 | Z136: 0 | AA136: =Z136*K136 -> 0 | AR136: 4 | AT136: K | AU136: 2 | AY136: ROZPOCET | BE136: =IF(U136="základná",N136,0) -> 0 | BF136: =IF(U136="znížená",N136,0) -> 0 | BG136: =IF(U136="zákl. prenesená",N136,0) -> 0 | BH136: =IF(U136="zníž. prenesená",N136,0) -> 0 | BI136: =IF(U136="nulová",N136,0) -> 0 | BJ136: 2 | BK136: =ROUND(L136*K136,2) -> 0 | BL136: 4 | BM136: 1197280370
C137: 9 | D137: K | E137: 978059631 | F137: Odsekanie a odobratie stien z obkladačiek vonkajších nad 2 m2, -0,08900t | J137: m2 | K137: 22.04 | N137: =ROUND(L137*K137,2) -> 0 | U137: znížená | V137: 0.369 | W137: =V137*K137 -> 8.13276 | X137: 0 | Y137: =X137*K137 -> 0 | Z137: 0.089 | AA137: =Z137*K137 -> 1.96156 | AR137: 4 | AT137: K | AU137: 2 | AY137: ROZPOCET | BE137: =IF(U137="základná",N137,0) -> 0 | BF137: =IF(U137="znížená",N137,0) -> 0 | BG137: =IF(U137="zákl. prenesená",N137,0) -> 0 | BH137: =IF(U137="zníž. prenesená",N137,0) -> 0 | BI137: =IF(U137="nulová",N137,0) -> 0 | BJ137: 2 | BK137: =ROUND(L137*K137,2) -> 0 | BL137: 4 | BM137: 1675187218
C138: 10 | D138: K | E138: 979011111 | F138: Zvislá doprava sutiny a vybúraných hmôt za prvé podlažie nad alebo pod základným podlažím | J138: t | K138: 1.962 | N138: =ROUND(L138*K138,2) -> 0 | U138: znížená | V138: 0.882 | W138: =V138*K138 -> 1.730484 | X138: 0 | Y138: =X138*K138 -> 0 | Z138: 0 | AA138: =Z138*K138 -> 0 | AR138: 4 | AT138: K | AU138: 2 | AY138: ROZPOCET | BE138: =IF(U138="základná",N138,0) -> 0 | BF138: =IF(U138="znížená",N138,0) -> 0 | BG138: =IF(U138="zákl. prenesená",N138,0) -> 0 | BH138: =IF(U138="zníž. prenesená",N138,0) -> 0 | BI138: =IF(U138="nulová",N138,0) -> 0 | BJ138: 2 | BK138: =ROUND(L138*K138,2) -> 0 | BL138: 4 | BM138: -1238406943
C139: 11 | D139: K | E139: 979081111 | F139: Odvoz sutiny a vybúraných hmôt na skládku do 1 km | J139: t | K139: 1.962 | N139: =ROUND(L139*K139,2) -> 0 | U139: znížená | V139: 0.598 | W139: =V139*K139 -> 1.173276 | X139: 0 | Y139: =X139*K139 -> 0 | Z139: 0 | AA139: =Z139*K139 -> 0 | AR139: 4 | AT139: K | AU139: 2 | AY139: ROZPOCET | BE139: =IF(U139="základná",N139,0) -> 0 | BF139: =IF(U139="znížená",N139,0) -> 0 | BG139: =IF(U139="zákl. prenesená",N139,0) -> 0 | BH139: =IF(U139="zníž. prenesená",N139,0) -> 0 | BI139: =IF(U139="nulová",N139,0) -> 0 | BJ139: 2 | BK139: =ROUND(L139*K139,2) -> 0 | BL139: 4 | BM139: -474128798
C140: 12 | D140: K | E140: 979081121 | F140: Odvoz sutiny a vybúraných hmôt na skládku za každý ďalší 1 km | J140: t | K140: 37.278 | N140: =ROUND(L140*K140,2) -> 0 | U140: znížená | V140: 0.007 | W140: =V140*K140 -> 0.260946 | X140: 0 | Y140: =X140*K140 -> 0 | Z140: 0 | AA140: =Z140*K140 -> 0 | AR140: 4 | AT140: K | AU140: 2 | AY140: ROZPOCET | BE140: =IF(U140="základná",N140,0) -> 0 | BF140: =IF(U140="znížená",N140,0) -> 0 | BG140: =IF(U140="zákl. prenesená",N140,0) -> 0 | BH140: =IF(U140="zníž. prenesená",N140,0) -> 0 | BI140: =IF(U140="nulová",N140,0) -> 0 | BJ140: 2 | BK140: =ROUND(L140*K140,2) -> 0 | BL140: 4 | BM140: -2073690889
C141: 13 | D141: K | E141: 979082111 | F141: Vnútrostavenisková doprava sutiny a vybúraných hmôt do 10 m | J141: t | K141: 1.962 | N141: =ROUND(L141*K141,2) -> 0 | U141: znížená | V141: 0.89 | W141: =V141*K141 -> 1.74618 | X141: 0 | Y141: =X141*K141 -> 0 | Z141: 0 | AA141: =Z141*K141 -> 0 | AR141: 4 | AT141: K | AU141: 2 | AY141: ROZPOCET | BE141: =IF(U141="základná",N141,0) -> 0 | BF141: =IF(U141="znížená",N141,0) -> 0 | BG141: =IF(U141="zákl. prenesená",N141,0) -> 0 | BH141: =IF(U141="zníž. prenesená",N141,0) -> 0 | BI141: =IF(U141="nulová",N141,0) -> 0 | BJ141: 2 | BK141: =ROUND(L141*K141,2) -> 0 | BL141: 4 | BM141: 11357016
C142: 14 | D142: K | E142: 979089612 | F142: Poplatok za skladovanie - iné odpady zo stavieb a demolácií (17 09), ostatné | J142: t | K142: 1.962 | N142: =ROUND(L142*K142,2) -> 0 | U142: znížená | V142: 0 | W142: =V142*K142 -> 0 | X142: 0 | Y142: =X142*K142 -> 0 | Z142: 0 | AA142: =Z142*K142 -> 0 | AR142: 4 | AT142: K | AU142: 2 | AY142: ROZPOCET | BE142: =IF(U142="základná",N142,0) -> 0 | BF142: =IF(U142="znížená",N142,0) -> 0 | BG142: =IF(U142="zákl. prenesená",N142,0) -> 0 | BH142: =IF(U142="zníž. prenesená",N142,0) -> 0 | BI142: =IF(U142="nulová",N142,0) -> 0 | BJ142: 2 | BK142: =ROUND(L142*K142,2) -> 0 | BL142: 4 | BM142: 113280940
D143: 99 - Presun hmôt HSV | N143: =BK143 -> 0 | W143: =W144 -> 99.97317 | Y143: =Y144 -> 0 | AA143: =AA144 -> 0 | AR143: 1 | AT143: D | AU143: 1 | AY143: ROZPOCET | BK143: =BK144 -> 0
C144: 15 | D144: K | E144: 999281111 | F144: Presun hmôt pre opravy a údržbu objektov vrátane vonkajších plášťov výšky do 25 m | J144: t | K144: 40.59 | N144: =ROUND(L144*K144,2) -> 0 | U144: znížená | V144: 2.463 | W144: =V144*K144 -> 99.97317 | X144: 0 | Y144: =X144*K144 -> 0 | Z144: 0 | AA144: =Z144*K144 -> 0 | AR144: 4 | AT144: K | AU144: 2 | AY144: ROZPOCET | BE144: =IF(U144="základná",N144,0) -> 0 | BF144: =IF(U144="znížená",N144,0) -> 0 | BG144: =IF(U144="zákl. prenesená",N144,0) -> 0 | BH144: =IF(U144="zníž. prenesená",N144,0) -> 0 | BI144: =IF(U144="nulová",N144,0) -> 0 | BJ144: 2 | BK144: =ROUND(L144*K144,2) -> 0 | BL144: 4 | BM144: 2071281922

Sheet 02 - Zateplenie strechy
D1: Hárok obsahuje: | F1: 1) Krycí list rozpočtu | H1: 2) Rekapitulácia rozpočtu | L1: 3) Rozpočet | O1: Späť na hárok: | S1: Rekapitulácia stavby
C2: optimalizované pre tlač zostáv vo formáte A4 - na výšku | S2: >> skryté stĺpce << | AT2: {654d6d05-fff5-40f6-94a7-79a6dac6285f}
AT3: 0
C4: KRYCÍ LIST ROZPOČTU | T4: v --- nižšie sa nachádzajú doplnkové a pomocné údaje k zostavám --- v | AT4: False
D6: Stavba: | F6: ='Rekapitulácia stavby'!K6 -> Zníženie energetickej náročnosti spoločnosti Kovomont-PO, Výrobná hala č.1 + administratívna budova
D7: Objekt: | F7: 02 - SO 102 - Hala 1 - Zateplenie strechy
D8: JKSO: | M8: KS:
D9: Miesto: | F9: Prešov | M9: Dátum: | O9: ='Rekapitulácia stavby'!AN8 -> 43896
D11: Objednávateľ: | M11: IČO:
E12: Kovomont - PO s.r.o., Prešov | M12: IČO DPH:
D14: Zhotoviteľ: | M14: IČO: | O14: =IF('Rekapitulácia stavby'!AN13="","",'Rekapitulácia stavby'!AN13)
E15: =IF('Rekapitulácia stavby'!E14="","",'Rekapitulácia stavby'!E14) | M15: IČO DPH: | O15: =IF('Rekapitulácia stavby'!AN14="","",'Rekapitulácia stavby'!AN14)
D17: Projektant: | M17: IČO:
E18: ing. M. Kovaľ, Prešov | M18: IČO DPH:
D20: Spracovateľ: | M20: IČO: | O20: =IF('Rekapitulácia stavby'!AN19="","",'Rekapitulácia stavby'!AN19)
E21: =IF('Rekapitulácia stavby'!E20="","",'Rekapitulácia stavby'!E20) | M21: IČO DPH: | O21: =IF('Rekapitulácia stavby'!AN20="","",'Rekapitulácia stavby'!AN20)
D23: Poznámka:
D27: Náklady z rozpočtu | M27: =N88 -> 0
D28: Ostatné náklady | M28: =N100 -> 0
D30: Cena bez DPH | M30: =ROUND(M27+M28,2) -> 0
D32: DPH | E32: základná | F32: 0.2 | G32: z | H32: =ROUND((SUM(BE100:BE101)+SUM(BE119:BE163)), 2) -> 0 | M32: =ROUND(ROUND((SUM(BE100:BE101)+SUM(BE119:BE163)), 2)*F32, 2) -> 0
E33: znížená | F33: 0.2 | G33: z | H33: =ROUND((SUM(BF100:BF101)+SUM(BF119:BF163)), 2) -> 0 | M33: =ROUND(ROUND((SUM(BF100:BF101)+SUM(BF119:BF163)), 2)*F33, 2) -> 0
E34: zákl. prenesená | F34: 0.2 | G34: z | H34: =ROUND((SUM(BG100:BG101)+SUM(BG119:BG163)), 2) -> 0 | M34: 0
E35: zníž. prenesená | F35: 0.2 | G35: z | H35: =ROUND((SUM(BH100:BH101)+SUM(BH119:BH163)), 2) -> 0 | M35: 0
E36: nulová | F36: 0 | G36: z | H36: =ROUND((SUM(BI100:BI101)+SUM(BI119:BI163)), 2) -> 0 | M36: 0
D38: Cena s DPH | G38: v | H38: EUR | L38: =SUM(M30:M36) -> 0
D50: Projektant | J50: Spracovateľ
D59: Dátum a podpis: | G59: Pečiatka | J59: Dátum a podpis: | N59: Pečiatka
D61: Objednávateľ | J61: Zhotoviteľ
D70: Dátum a podpis: | G70: Pečiatka | J70: Dátum a podpis: | N70: Pečiatka
C76: REKAPITULÁCIA ROZPOČTU
C78: Stavba: | F78: =F6 -> Zníženie energetickej náročnosti spoločnosti Kovomont-PO, Výrobná hala č.1 + administratívna budova
C79: Objekt: | F79: =F7 -> 02 - SO 102 - Hala 1 - Zateplenie strechy
C81: Miesto: | F81: =F9 -> Prešov | K81: Dátum: | M81: =IF(O9="","",O9) -> 43896
C83: Objednávateľ: | F83: =E12 -> Kovomont - PO s.r.o., Prešov | K83: Projektant: | M83: =E18 -> ing. M. Kovaľ, Prešov
C84: Zhotoviteľ: | F84: =IF(E15="","",E15) | K84: Spracovateľ: | M84: =E21
C86: Kód - Popis | N86: Cena celkom [EUR]
C88: 1) Náklady z rozpočtu | N88: =N119 -> 0 | AU88: -1
D89: HSV - Práce a dodávky HSV | N89: =N120 -> 0
D90: 9 - Ostatné konštrukcie a práce-búranie | N90: =N121 -> 0
D91: 99 - Presun hmôt HSV | N91: =N125 -> 0
D92: PSV - Práce a dodávky PSV | N92: =N127 -> 0
D93: 712 - Izolácie striech, povlakové krytiny | N93: =N128 -> 0
D94: 713 - Izolácie tepelné | N94: =N142 -> 0
D95: 721 - Zdravotechnika - vnútorná kanalizácia | N95: =N152 -> 0
D96: 764 - Konštrukcie klampiarske | N96: =N156 -> 0
D97: M - Práce a dodávky M | N97: =N161 -> 0
D98: 21-M - Elektromontáže | N98: =N162 -> 0
C100: 2) Ostatné náklady | N100: 0 | U100: DPH
C102: Celkové náklady za stavbu 1) + 2) | L102: =ROUND(SUM(N88+N100),2) -> 0
C108: ROZPOČET
C110: Stavba: | F110: =F6 -> Zníženie energetickej náročnosti spoločnosti Kovomont-PO, Výrobná hala č.1 + administratívna budova
C111: Objekt: | F111: =F7 -> 02 - SO 102 - Hala 1 - Zateplenie strechy
C113: Miesto: | F113: =F9 -> Prešov | K113: Dátum: | M113: =IF(O9="","",O9) -> 43896
C115: Objednávateľ: | F115: =E12 -> Kovomont - PO s.r.o., Prešov | K115: Projektant: | M115: =E18 -> ing. M. Kovaľ, Prešov
C116: Zhotoviteľ: | F116: =IF(E15="","",E15) | K116: Spracovateľ: | M116: =E21
C118: PČ | D118: Typ | E118: Kód | F118: Popis | J118: MJ | K118: Množstvo | L118: J.cena [EUR] | N118: Cena celkom [EUR] | T118: Poznámka | U118: DPH | V118: J. Nh [h] | W118: Nh celkom [h] | X118: J. hmotnosť_x000D_ [t] | Y118: Hmotnosť_x000D_ celkom [t] | Z118: J. suť [t] | AA118: Suť Celkom [t]
C119: Náklady z rozpočtu | N119: =BK119 -> 0 | W119: =W120+W127+W161 -> 867.87403 | Y119: =Y120+Y127+Y161 -> 56.619186 | AA119: =AA120+AA127+AA161 -> 0.247135 | AT119: D | AU119: -1 | BK119: =BK120+BK127+BK161 -> 0
D120: HSV - Práce a dodávky HSV | N120: =BK120 -> 0 | W120: =W121+W125 -> 201.71926 | Y120: =Y121+Y125 -> 45.294228 | AA120: =AA121+AA125 -> 0 | AR120: 1 | AT120: D | AU120: 0 | AY120: ROZPOCET | BK120: =BK121+BK125 -> 0
D121: 9 - Ostatné konštrukcie a práce-búranie | N121: =BK121 -> 0 | W121: =SUM(W122:W124) -> 89.8695 | Y121: =SUM(Y122:Y124) -> 45.294228 | AA121: =SUM(AA122:AA124) -> 0 | AR121: 1 | AT121: D | AU121: 1 | AY121: ROZPOCET | BK121: =SUM(BK122:BK124) -> 0
C122: 1 | D122: K | E122: 938902304 | F122: Čistenie podkladu vysokotlakovým vodným lúčom do hrúbky 1 mm - stropov, striech | J122: m2 | K122: 599.13 | N122: =ROUND(L122*K122,2) -> 0 | U122: znížená | V122: 0.15 | W122: =V122*K122 -> 89.8695 | X122: 0.0756 | Y122: =X122*K122 -> 45.294228 | Z122: 0 | AA122: =Z122*K122 -> 0 | AR122: 4 | AT122: K | AU122: 2 | AY122: ROZPOCET | BE122: =IF(U122="základná",N122,0) -> 0 | BF122: =IF(U122="znížená",N122,0) -> 0 | BG122: =IF(U122="zákl. prenesená",N122,0) -> 0 | BH122: =IF(U122="zníž. prenesená",N122,0) -> 0 | BI122: =IF(U122="nulová",N122,0) -> 0 | BJ122: 2 | BK122: =ROUND(L122*K122,2) -> 0 | BL122: 4 | BM122: 2124397922
F123: S2* | AT123: VV | AU123: 2 | AV123: 1 | AW123: True | AX123: 0 | AY123: ROZPOCET
F124: 599,13 | K124: 599.13 | AT124: VV | AU124: 2 | AV124: 2 | AW124: True | AX124: 1 | AY124: ROZPOCET
D125: 99 - Presun hmôt HSV | N125: =BK125 -> 0 | W125: =W126 -> 111.84976 | Y125: =Y126 -> 0 | AA125: =AA126 -> 0 | AR125: 1 | AT125: D | AU125: 1 | AY125: ROZPOCET | BK125: =BK126 -> 0
C126: 2 | D126: K | E126: 999281111 | F126: Presun hmôt pre opravy a údržbu objektov vrátane vonkajších plášťov výšky do 25 m | J126: t | K126: 45.412 | N126: =ROUND(L126*K126,2) -> 0 | U126: znížená | V126: 2.463 | W126: =V126*K126 -> 111.84976 | X126: 0 | Y126: =X126*K126 -> 0 | Z126: 0 | AA126: =Z126*K126 -> 0 | AR126: 4 | AT126: K | AU126: 2 | AY126: ROZPOCET | BE126: =IF(U126="základná",N126,0) -> 0 | BF126: =IF(U126="znížená",N126,0) -> 0 | BG126: =IF(U126="zákl. prenesená",N126,0) -> 0 | BH126: =IF(U126="zníž. prenesená",N126,0) -> 0 | BI126: =IF(U126="nulová",N126,0) -> 0 | BJ126: 2 | BK126: =ROUND(L126*K126,2) -> 0 | BL126: 4 | BM126: 1445062688
D127: PSV - Práce a dodávky PSV | N127: =BK127 -> 0 | W127: =W128+W142+W152+W156 -> 666.15477 | Y127: =Y128+Y142+Y152+Y156 -> 11.324958 | AA127: =AA128+AA142+AA152+AA156 -> 0.247135 | AR127: 2 | AT127: D | AU127: 0 | AY127: ROZPOCET | BK127: =BK128+BK142+BK152+BK156 -> 0
D128: 712 - Izolácie striech, povlakové krytiny | N128: =BK128 -> 0 | W128: =SUM(W129:W141) -> 300.08176 | Y128: =SUM(Y129:Y141) -> 3.8150813 | AA128: =SUM(AA129:AA141) -> 0 | AR128: 2 | AT128: D | AU128: 1 | AY128: ROZPOCET | BK128: =SUM(BK129:BK141) -> 0
C129: 3 | D129: K | E129: 712370070 | F129: Zhotovenie povlakovej krytiny striech plochých do 10° PVC-P fóliou upevnenou prikotvením so zvarením spoju | J129: m2 | K129: 1103.039 | N129: =ROUND(L129*K129,2) -> 0 | U129: znížená | V129: 0.244 | W129: =V129*K129 -> 269.14152 | X129: 0 | Y129: =X129*K129 -> 0 | Z129: 0 | AA129: =Z129*K129 -> 0 | AR129: 16 | AT129: K | AU129: 2 | AY129: ROZPOCET | BE129: =IF(U129="základná",N129,0) -> 0 | BF129: =IF(U129="znížená",N129,0) -> 0 | BG129: =IF(U129="zákl. prenesená",N129,0) -> 0 | BH129: =IF(U129="zníž. prenesená",N129,0) -> 0 | BI129: =IF(U129="nulová",N129,0) -> 0 | BJ129: 2 | BK129: =ROUND(L129*K129,2) -> 0 | BL129: 16 | BM129: 153031743
C130: 4 | D130: M | E130: 283220002700 | F130: Strešná hydroizolačná fólia PVC-P, hr. 1,5 mm, rozmer 2x15 m, vystužená skleným vláknom, pre kotvený systém | J130: m2 | K130: 1268.495 | N130: =ROUND(L130*K130,2) -> 0 | U130: znížená | V130: 0 | W130: =V130*K130 -> 0 | X130: 0.002198 | Y130: =X130*K130 -> 2.788152 | Z130: 0 | AA130: =Z130*K130 -> 0 | AR130: 32 | AT130: M | AU130: 2 | AY130: ROZPOCET | BE130: =IF(U130="základná",N130,0) -> 0 | BF130: =IF(U130="znížená",N130,0) -> 0 | BG130: =IF(U130="zákl. prenesená",N130,0) -> 0 | BH130: =IF(U130="zníž. prenesená",N130,0) -> 0 | BI130: =IF(U130="nulová",N130,0) -> 0 | BJ130: 2 | BK130: =ROUND(L130*K130,2) -> 0 | BL130: 16 | BM130: 893772775
C131: 5 | D131: M | E131: 311970001501 | F131: Kotvy do strechy | J131: ks | K131: 3463.542 | N131: =ROUND(L131*K131,2) -> 0 | U131: znížená | V131: 0 | W131: =V131*K131 -> 0 | X131: 0.00015 | Y131: =X131*K131 -> 0.5195313 | Z131: 0 | AA131: =Z131*K131 -> 0 | AR131: 32 | AT131: M | AU131: 2 | AY131: ROZPOCET | BE131: =IF(U131="základná",N131,0) -> 0 | BF131: =IF(U131="znížená",N131,0) -> 0 | BG131: =IF(U131="zákl. prenesená",N131,0) -> 0 | BH131: =IF(U131="zníž. prenesená",N131,0) -> 0 | BI131: =IF(U131="nulová",N131,0) -> 0 | BJ131: 2 | BK131: =ROUND(L131*K131,2) -> 0 | BL131: 16 | BM131: 1728133331
C132: 6 | D132: K | E132: 712990040 | F132: Položenie geotextílie vodorovne alebo zvislo na strechy ploché do 10° | J132: m2 | K132: 1103.039 | N132: =ROUND(L132*K132,2) -> 0 | U132: znížená | V132: 0.02805 | W132: =V132*K132 -> 30.940244 | X132: 0 | Y132: =X132*K132 -> 0 | Z132: 0 | AA132: =Z132*K132 -> 0 | AR132: 16 | AT132: K | AU132: 2 | AY132: ROZPOCET | BE132: =IF(U132="základná",N132,0) -> 0 | BF132: =IF(U132="znížená",N132,0) -> 0 | BG132: =IF(U132="zákl. prenesená",N132,0) -> 0 | BH132: =IF(U132="zníž. prenesená",N132,0) -> 0 | BI132: =IF(U132="nulová",N132,0) -> 0 | BJ132: 2 | BK132: =ROUND(L132*K132,2) -> 0 | BL132: 16 | BM132: 1921996524
F133: S2* | AT133: VV | AU133: 2 | AV133: 1 | AW133: True | AX133: 0 | AY133: ROZPOCET
F134: 599,13 | K134: 599.13 | AT134: VV | AU134: 2 | AV134: 2 | AW134: True | AX134: 0 | AY134: ROZPOCET
F135: 0,65*31,7 | K135: 20.605 | AT135: VV | AU135: 2 | AV135: 2 | AW135: True | AX135: 0 | AY135: ROZPOCET
F136: S3* | AT136: VV | AU136: 2 | AV136: 1 | AW136: True | AX136: 0 | AY136: ROZPOCET
F137: 405,46 | K137: 405.46 | AT137: VV | AU137: 2 | AV137: 2 | AW137: True | AX137: 0 | AY137: ROZPOCET
F138: 0,65*119,76 | K138: 77.844 | AT138: VV | AU138: 2 | AV138: 2 | AW138: True | AX138: 0 | AY138: ROZPOCET
F139: Súčet | K139: 1103.039 | AT139: VV | AU139: 2 | AV139: 4 | AW139: True | AX139: 1 | AY139: ROZPOCET
C140: 7 | D140: M | E140: 693110001200 | F140: Geotextília polypropylénová Tatratex GTX N PP 300, šírka 1,27; 1,75-3,5 m, dĺžka 20-60; 90 m, hrúbka 2,7 mm, netkaná, MIVA | J140: m2 | K140: 1268.495 | N140: =ROUND(L140*K140,2) -> 0 | U140: znížená | V140: 0 | W140: =V140*K140 -> 0 | X140: 0.0004 | Y140: =X140*K140 -> 0.507398 | Z140: 0 | AA140: =Z140*K140 -> 0 | AR140: 32 | AT140: M | AU140: 2 | AY140: ROZPOCET | BE140: =IF(U140="základná",N140,0) -> 0 | BF140: =IF(U140="znížená",N140,0) -> 0 | BG140: =IF(U140="zákl. prenesená",N140,0) -> 0 | BH140: =IF(U140="zníž. prenesená",N140,0) -> 0 | BI140: =IF(U140="nulová",N140,0) -> 0 | BJ140: 2 | BK140: =ROUND(L140*K140,2) -> 0 | BL140: 16 | BM140: 1552642810
C141: 8 | D141: K | E141: 998712202 | F141: Presun hmôt pre izoláciu povlakovej krytiny v objektoch výšky nad 6 do 12 m | J141: % | K141: 225.174 | N141: =ROUND(L141*K141,2) -> 0 | U141: znížená | V141: 0 | W141: =V141*K141 -> 0 | X141: 0 | Y141: =X141*K141 -> 0 | Z141: 0 | AA141: =Z141*K141 -> 0 | AR141: 16 | AT141: K | AU141: 2 | AY141: ROZPOCET | BE141: =IF(U141="základná",N141,0) -> 0 | BF141: =IF(U141="znížená",N141,0) -> 0 | BG141: =IF(U141="zákl. prenesená",N141,0) -> 0 | BH141: =IF(U141="zníž. prenesená",N141,0) -> 0 | BI141: =IF(U141="nulová",N141,0) -> 0 | BJ141: 2 | BK141: =ROUND(L141*K141,2) -> 0 | BL141: 16 | BM141: 99552528
D142: 713 - Izolácie tepelné | N142: =BK142 -> 0 | W142: =SUM(W143:W151) -> 239.74708 | Y142: =SUM(Y143:Y151) -> 6.9894463 | AA142: =SUM(AA143:AA151) -> 0 | AR142: 2 | AT142: D | AU142: 1 | AY142: ROZPOCET | BK142: =SUM(BK143:BK151) -> 0
C143: 9 | D143: K | E143: 713142132 | F143: Montáž tepelnej izolácie striech plochých do 10° polystyrénom, jednovrstvová prilep. za studena PUR penou | J143: m2 | K143: 405.46 | N143: =ROUND(L143*K143,2) -> 0 | U143: znížená | V143: 0.148 | W143: =V143*K143 -> 60.00808 | X143: 0.00115 | Y143: =X143*K143 -> 0.466279 | Z143: 0 | AA143: =Z143*K143 -> 0 | AR143: 16 | AT143: K | AU143: 2 | AY143: ROZPOCET | BE143: =IF(U143="základná",N143,0) -> 0 | BF143: =IF(U143="znížená",N143,0) -> 0 | BG143: =IF(U143="zákl. prenesená",N143,0) -> 0 | BH143: =IF(U143="zníž. prenesená",N143,0) -> 0 | BI143: =IF(U143="nulová",N143,0) -> 0 | BJ143: 2 | BK143: =ROUND(L143*K143,2) -> 0 | BL143: 16 | BM143: 2037101253
F144: S3* | AT144: VV | AU144: 2 | AV144: 1 | AW144: True | AX144: 0 | AY144: ROZPOCET
F145: 405,46 | K145: 405.46 | AT145: VV | AU145: 2 | AV145: 2 | AW145: True | AX145: 1 | AY145: ROZPOCET
C146: 10 | D146: M | E146: 283720009000 | F146: Doska EPS 150S hr. 100 mm, na zateplenie podláh a strešných terás, ISOVER | J146: m2 | K146: 425.733 | N146: =ROUND(L146*K146,2) -> 0 | U146: znížená | V146: 0 | W146: =V146*K146 -> 0 | X146: 0.00245 | Y146: =X146*K146 -> 1.0430458 | Z146: 0 | AA146: =Z146*K146 -> 0 | AR146: 32 | AT146: M | AU146: 2 | AY146: ROZPOCET | BE146: =IF(U146="základná",N146,0) -> 0 | BF146: =IF(U146="znížená",N146,0) -> 0 | BG146: =IF(U146="zákl. prenesená",N146,0) -> 0 | BH146: =IF(U146="zníž. prenesená",N146,0) -> 0 | BI146: =IF(U146="nulová",N146,0) -> 0 | BJ146: 2 | BK146: =ROUND(L146*K146,2) -> 0 | BL146: 16 | BM146: -92130035
C147: 11 | D147: K | E147: 713142230 | F147: Montáž tepelnej izolácie striech plochých do 10° polystyrénom, dvojvrstvová prilep. za studena PUR penou | J147: m2 | K147: 599.13 | N147: =ROUND(L147*K147,2) -> 0 | U147: znížená | V147: 0.3 | W147: =V147*K147 -> 179.739 | X147: 0.00115 | Y147: =X147*K147 -> 0.6889995 | Z147: 0 | AA147: =Z147*K147 -> 0 | AR147: 16 | AT147: K | AU147: 2 | AY147: ROZPOCET | BE147: =IF(U147="základná",N147,0) -> 0 | BF147: =IF(U147="znížená",N147,0) -> 0 | BG147: =IF(U147="zákl. prenesená",N147,0) -> 0 | BH147: =IF(U147="zníž. prenesená",N147,0) -> 0 | BI147: =IF(U147="nulová",N147,0) -> 0 | BJ147: 2 | BK147: =ROUND(L147*K147,2) -> 0 | BL147: 16 | BM147: 465151902
F148: S2* | AT148: VV | AU148: 2 | AV148: 1 | AW148: True | AX148: 0 | AY148: ROZPOCET
F149: 599,13 | K149: 599.13 | AT149: VV | AU149: 2 | AV149: 2 | AW149: True | AX149: 1 | AY149: ROZPOCET
C150: 12 | D150: M | E150: 283720009301 | F150: Doska EPS 150S hr. 150 mm, na zateplenie podláh a strešných terás, ISOVER | J150: m2 | K150: 1222.225 | N150: =ROUND(L150*K150,2) -> 0 | U150: znížená | V150: 0 | W150: =V150*K150 -> 0 | X150: 0.00392 | Y150: =X150*K150 -> 4.791122 | Z150: 0 | AA150: =Z150*K150 -> 0 | AR150: 32 | AT150: M | AU150: 2 | AY150: ROZPOCET | BE150: =IF(U150="základná",N150,0) -> 0 | BF150: =IF(U150="znížená",N150,0) -> 0 | BG150: =IF(U150="zákl. prenesená",N150,0) -> 0 | BH150: =IF(U150="zníž. prenesená",N150,0) -> 0 | BI150: =IF(U150="nulová",N150,0) -> 0 | BJ150: 2 | BK150: =ROUND(L150*K150,2) -> 0 | BL150: 16 | BM150: -121560110
C151: 13 | D151: K | E151: 998713202 | F151: Presun hmôt pre izolácie tepelné v objektoch výšky nad 6 m do 12 m | J151: % | K151: 285.626 | N151: =ROUND(L151*K151,2) -> 0 | U151: znížená | V151: 0 | W151: =V151*K151 -> 0 | X151: 0 | Y151: =X151*K151 -> 0 | Z151: 0 | AA151: =Z151*K151 -> 0 | AR151: 16 | AT151: K | AU151: 2 | AY151: ROZPOCET | BE151: =IF(U151="základná",N151,0) -> 0 | BF151: =IF(U151="znížená",N151,0) -> 0 | BG151: =IF(U151="zákl. prenesená",N151,0) -> 0 | BH151: =IF(U151="zníž. prenesená",N151,0) -> 0 | BI151: =IF(U151="nulová",N151,0) -> 0 | BJ151: 2 | BK151: =ROUND(L151*K151,2) -> 0 | BL151: 16 | BM151: -1304099368
D152: 721 - Zdravotechnika - vnútorná kanalizácia | N152: =BK152 -> 0 | W152: =SUM(W153:W155) -> 4.5354 | Y152: =SUM(Y153:Y155) -> 0.0252 | AA152: =SUM(AA153:AA155) -> 0 | AR152: 2 | AT152: D | AU152: 1 | AY152: ROZPOCET | BK152: =SUM(BK153:BK155) -> 0
C153: 14 | D153: K | E153: 721230093 | F153: Montáž strešného vtoku pre asfaltové izolácie DN 150 - K/4 | J153: ks | K153: 10 | N153: =ROUND(L153*K153,2) -> 0 | U153: znížená | V153: 0.45354 | W153: =V153*K153 -> 4.5354 | X153: 0.00066 | Y153: =X153*K153 -> 0.0066 | Z153: 0 | AA153: =Z153*K153 -> 0 | AR153: 16 | AT153: K | AU153: 2 | AY153: ROZPOCET | BE153: =IF(U153="základná",N153,0) -> 0 | BF153: =IF(U153="znížená",N153,0) -> 0 | BG153: =IF(U153="zákl. prenesená",N153,0) -> 0 | BH153: =IF(U153="zníž. prenesená",N153,0) -> 0 | BI153: =IF(U153="nulová",N153,0) -> 0 | BJ153: 2 | BK153: =ROUND(L153*K153,2) -> 0 | BL153: 16 | BM153: -191395053
C154: 15 | D154: M | E154: 286630004300 | F154: Strešný vtok, DN 150, bitúmenová izolácia, vertikálny odtok, záchytný kôš | J154: ks | K154: 10 | N154: =ROUND(L154*K154,2) -> 0 | U154: znížená | V154: 0 | W154: =V154*K154 -> 0 | X154: 0.00186 | Y154: =X154*K154 -> 0.0186 | Z154: 0 | AA154: =Z154*K154 -> 0 | AR154: 32 | AT154: M | AU154: 2 | AY154: ROZPOCET | BE154: =IF(U154="základná",N154,0) -> 0 | BF154: =IF(U154="znížená",N154,0) -> 0 | BG154: =IF(U154="zákl. prenesená",N154,0) -> 0 | BH154: =IF(U154="zníž. prenesená",N154,0) -> 0 | BI154: =IF(U154="nulová",N154,0) -> 0 | BJ154: 2 | BK154: =ROUND(L154*K154,2) -> 0 | BL154: 16 | BM154: 1442968216
C155: 16 | D155: K | E155: 998721202 | F155: Presun hmôt pre vnútornú kanalizáciu v objektoch výšky nad 6 do 12 m | J155: % | K155: 6.988 | N155: =ROUND(L155*K155,2) -> 0 | U155: znížená | V155: 0 | W155: =V155*K155 -> 0 | X155: 0 | Y155: =X155*K155 -> 0 | Z155: 0 | AA155: =Z155*K155 -> 0 | AR155: 16 | AT155: K | AU155: 2 | AY155: ROZPOCET | BE155: =IF(U155="základná",N155,0) -> 0 | BF155: =IF(U155="znížená",N155,0) -> 0 | BG155: =IF(U155="zákl. prenesená",N155,0) -> 0 | BH155: =IF(U155="zníž. prenesená",N155,0) -> 0 | BI155: =IF(U155="nulová",N155,0) -> 0 | BJ155: 2 | BK155: =ROUND(L155*K155,2) -> 0 | BL155: 16 | BM155: -1964422407
D156: 764 - Konštrukcie klampiarske | N156: =BK156 -> 0 | W156: =SUM(W157:W160) -> 121.79053 | Y156: =SUM(Y157:Y160) -> 0.4952304 | AA156: =SUM(AA157:AA160) -> 0.247135 | AR156: 2 | AT156: D | AU156: 1 | AY156: ROZPOCET | BK156: =SUM(BK157:BK160) -> 0
C157: 17 | D157: K | E157: 764333432 | F157: Lemovanie z pozinkovaného farbeného PZf plechu, múrov na plochých strechách r.š. 350 mm - K/2 | J157: m | K157: 41.6 | N157: =ROUND(L157*K157,2) -> 0 | U157: znížená | V157: 0.86125 | W157: =V157*K157 -> 35.828 | X157: 0.00282 | Y157: =X157*K157 -> 0.117312 | Z157: 0 | AA157: =Z157*K157 -> 0 | AR157: 4 | AT157: K | AU157: 2 | AY157: ROZPOCET | BE157: =IF(U157="základná",N157,0) -> 0 | BF157: =IF(U157="znížená",N157,0) -> 0 | BG157: =IF(U157="zákl. prenesená",N157,0) -> 0 | BH157: =IF(U157="zníž. prenesená",N157,0) -> 0 | BI157: =IF(U157="nulová",N157,0) -> 0 | BJ157: 2 | BK157: =ROUND(L157*K157,2) -> 0 | BL157: 4 | BM157: 1913127035
C158: 18 | D158: K | E158: 764430430 | F158: Oplechovanie muriva a atík z pozinkovaného farbeného PZf plechu, vrátane rohov r.š. 400 mm - K/1 | J158: m | K158: 109.86 | N158: =ROUND(L158*K158,2) -> 0 | U158: znížená | V158: 0.69836 | W158: =V158*K158 -> 76.72183 | X158: 0.00344 | Y158: =X158*K158 -> 0.3779184 | Z158: 0 | AA158: =Z158*K158 -> 0 | AR158: 16 | AT158: K | AU158: 2 | AY158: ROZPOCET | BE158: =IF(U158="základná",N158,0) -> 0 | BF158: =IF(U158="znížená",N158,0) -> 0 | BG158: =IF(U158="zákl. prenesená",N158,0) -> 0 | BH158: =IF(U158="zníž. prenesená",N158,0) -> 0 | BI158: =IF(U158="nulová",N158,0) -> 0 | BJ158: 2 | BK158: =ROUND(L158*K158,2) -> 0 | BL158: 16 | BM158: -1499629407
C159: 19 | D159: K | E159: 764430840 | F159: Demontáž oplechovania múrov a nadmuroviek rš od 330 do 500 mm, -0,00230t | J159: m | K159: 107.45 | N159: =ROUND(L159*K159,2) -> 0 | U159: znížená | V159: 0.086 | W159: =V159*K159 -> 9.2407 | X159: 0 | Y159: =X159*K159 -> 0 | Z159: 0.0023 | AA159: =Z159*K159 -> 0.247135 | AR159: 16 | AT159: K | AU159: 2 | AY159: ROZPOCET | BE159: =IF(U159="základná",N159,0) -> 0 | BF159: =IF(U159="znížená",N159,0) -> 0 | BG159: =IF(U159="zákl. prenesená",N159,0) -> 0 | BH159: =IF(U159="zníž. prenesená",N159,0) -> 0 | BI159: =IF(U159="nulová",N159,0) -> 0 | BJ159: 2 | BK159: =ROUND(L159*K159,2) -> 0 | BL159: 16 | BM159: -147444501
C160: 20 | D160: K | E160: 998764202 | F160: Presun hmôt pre konštrukcie klampiarske v objektoch výšky nad 6 do 12 m | J160: % | K160: 18.992 | N160: =ROUND(L160*K160,2) -> 0 | U160: znížená | V160: 0 | W160: =V160*K160 -> 0 | X160: 0 | Y160: =X160*K160 -> 0 | Z160: 0 | AA160: =Z160*K160 -> 0 | AR160: 16 | AT160: K | AU160: 2 | AY160: ROZPOCET | BE160: =IF(U160="základná",N160,0) -> 0 | BF160: =IF(U160="znížená",N160,0) -> 0 | BG160: =IF(U160="zákl. prenesená",N160,0) -> 0 | BH160: =IF(U160="zníž. prenesená",N160,0) -> 0 | BI160: =IF(U160="nulová",N160,0) -> 0 | BJ160: 2 | BK160: =ROUND(L160*K160,2) -> 0 | BL160: 16 | BM160: 1604211295
D161: M - Práce a dodávky M | N161: =BK161 -> 0 | W161: =W162 -> 0 | Y161: =Y162 -> 0 | AA161: =AA162 -> 0 | AR161: 3 | AT161: D | AU161: 0 | AY161: ROZPOCET | BK161: =BK162 -> 0
...

Sheet 03 - Výplne otvorov
D1: Hárok obsahuje: | F1: 1) Krycí list rozpočtu | H1: 2) Rekapitulácia rozpočtu | L1: 3) Rozpočet | O1: Späť na hárok: | S1: Rekapitulácia stavby
C2: optimalizované pre tlač zostáv vo formáte A4 - na výšku | S2: >> skryté stĺpce << | AT2: {558c5fd4-af76-49f1-8d16-6e234fc38de4}
AT3: 0
C4: KRYCÍ LIST ROZPOČTU | T4: v --- nižšie sa nachádzajú doplnkové a pomocné údaje k zostavám --- v | AT4: False
D6: Stavba: | F6: ='Rekapitulácia stavby'!K6 -> Zníženie energetickej náročnosti spoločnosti Kovomont-PO, Výrobná hala č.1 + administratívna budova
D7: Objekt: | F7: 03 - SO 102 - Hala 1 - Výplne otvorov
D8: JKSO: | M8: KS:
D9: Miesto: | F9: Prešov | M9: Dátum: | O9: ='Rekapitulácia stavby'!AN8 -> 43896
D11: Objednávateľ: | M11: IČO:
E12: Kovomont - PO s.r.o., Prešov | M12: IČO DPH:
D14: Zhotoviteľ: | M14: IČO: | O14: =IF('Rekapitulácia stavby'!AN13="","",'Rekapitulácia stavby'!AN13)
E15: =IF('Rekapitulácia stavby'!E14="","",'Rekapitulácia stavby'!E14) | M15: IČO DPH: | O15: =IF('Rekapitulácia stavby'!AN14="","",'Rekapitulácia stavby'!AN14)
D17: Projektant: | M17: IČO:
E18: ing. M. Kovaľ, Prešov | M18: IČO DPH:
D20: Spracovateľ: | M20: IČO: | O20: =IF('Rekapitulácia stavby'!AN19="","",'Rekapitulácia stavby'!AN19)
E21: =IF('Rekapitulácia stavby'!E20="","",'Rekapitulácia stavby'!E20) | M21: IČO DPH: | O21: =IF('Rekapitulácia stavby'!AN20="","",'Rekapitulácia stavby'!AN20)
D23: Poznámka:
D27: Náklady z rozpočtu | M27: =N88 -> 0
D28: Ostatné náklady | M28: =N99 -> 0
D30: Cena bez DPH | M30: =ROUND(M27+M28,2) -> 0
D32: DPH | E32: základná | F32: 0.2 | G32: z | H32: =ROUND((SUM(BE99:BE100)+SUM(BE118:BE186)), 2) -> 0 | M32: =ROUND(ROUND((SUM(BE99:BE100)+SUM(BE118:BE186)), 2)*F32, 2) -> 0
E33: znížená | F33: 0.2 | G33: z | H33: =ROUND((SUM(BF99:BF100)+SUM(BF118:BF186)), 2) -> 0 | M33: =ROUND(ROUND((SUM(BF99:BF100)+SUM(BF118:BF186)), 2)*F33, 2) -> 0
E34: zákl. prenesená | F34: 0.2 | G34: z | H34: =ROUND((SUM(BG99:BG100)+SUM(BG118:BG186)), 2) -> 0 | M34: 0
E35: zníž. prenesená | F35: 0.2 | G35: z | H35: =ROUND((SUM(BH99:BH100)+SUM(BH118:BH186)), 2) -> 0 | M35: 0
E36: nulová | F36: 0 | G36: z | H36: =ROUND((SUM(BI99:BI100)+SUM(BI118:BI186)), 2) -> 0 | M36: 0
D38: Cena s DPH | G38: v | H38: EUR | L38: =SUM(M30:M36) -> 0
D50: Projektant | J50: Spracovateľ
D59: Dátum a podpis: | G59: Pečiatka | J59: Dátum a podpis: | N59: Pečiatka
D61: Objednávateľ | J61: Zhotoviteľ
D70: Dátum a podpis: | G70: Pečiatka | J70: Dátum a podpis: | N70: Pečiatka
C76: REKAPITULÁCIA ROZPOČTU
C78: Stavba: | F78: =F6 -> Zníženie energetickej náročnosti spoločnosti Kovomont-PO, Výrobná hala č.1 + administratívna budova
C79: Objekt: | F79: =F7 -> 03 - SO 102 - Hala 1 - Výplne otvorov
C81: Miesto: | F81: =F9 -> Prešov | K81: Dátum: | M81: =IF(O9="","",O9) -> 43896
C83: Objednávateľ: | F83: =E12 -> Kovomont - PO s.r.o., Prešov | K83: Projektant: | M83: =E18 -> ing. M. Kovaľ, Prešov
C84: Zhotoviteľ: | F84: =IF(E15="","",E15) | K84: Spracovateľ: | M84: =E21
C86: Kód - Popis | N86: Cena celkom [EUR]
C88: 1) Náklady z rozpočtu | N88: =N118 -> 0 | AU88: -1
D89: HSV - Práce a dodávky HSV | N89: =N119 -> 0
D90: 6 - Úpravy povrchov, podlahy, osadenie | N90: =N120 -> 0
D91: 9 - Ostatné konštrukcie a práce-búranie | N91: =N129 -> 0
D92: 99 - Presun hmôt HSV | N92: =N143 -> 0
D93: PSV - Práce a dodávky PSV | N93: =N145 -> 0
D94: 764 - Konštrukcie klampiarske | N94: =N146 -> 0
D95: 766 - Konštrukcie stolárske | N95: =N152 -> 0
D96: 767 - Konštrukcie doplnkové kovové | N96: =N171 -> 0
D97: 784 - Maľby | N97: =N178 -> 0
C99: 2) Ostatné náklady | N99: 0 | U99: DPH
C101: Celkové náklady za stavbu 1) + 2) | L101: =ROUND(SUM(N88+N99),2) -> 0
C107: ROZPOČET
C109: Stavba: | F109: =F6 -> Zníženie energetickej náročnosti spoločnosti Kovomont-PO, Výrobná hala č.1 + administratívna budova
C110: Objekt: | F110: =F7 -> 03 - SO 102 - Hala 1 - Výplne otvorov
C112: Miesto: | F112: =F9 -> Prešov | K112: Dátum: | M112: =IF(O9="","",O9) -> 43896
C114: Objednávateľ: | F114: =E12 -> Kovomont - PO s.r.o., Prešov | K114: Projektant: | M114: =E18 -> ing. M. Kovaľ, Prešov
C115: Zhotoviteľ: | F115: =IF(E15="","",E15) | K115: Spracovateľ: | M115: =E21
C117: PČ | D117: Typ | E117: Kód | F117: Popis | J117: MJ | K117: Množstvo | L117: J.cena [EUR] | N117: Cena celkom [EUR] | T117: Poznámka | U117: DPH | V117: J. Nh [h] | W117: Nh celkom [h] | X117: J. hmotnosť_x000D_ [t] | Y117: Hmotnosť_x000D_ celkom [t] | Z117: J. suť [t] | AA117: Suť Celkom [t]
C118: Náklady z rozpočtu | N118: =BK118 -> 0 | W118: =W119+W145 -> 383.38549 | Y118: =Y119+Y145 -> 2.045354 | AA118: =AA119+AA145 -> 6.4428445 | AT118: D | AU118: -1 | BK118: =BK119+BK145 -> 0
D119: HSV - Práce a dodávky HSV | N119: =BK119 -> 0 | W119: =W120+W129+W143 -> 153.73496 | Y119: =Y120+Y129+Y143 -> 0.339815 | AA119: =AA120+AA129+AA143 -> 3.24698 | AR119: 1 | AT119: D | AU119: 0 | AY119: ROZPOCET | BK119: =BK120+BK129+BK143 -> 0
D120: 6 - Úpravy povrchov, podlahy, osadenie | N120: =BK120 -> 0 | W120: =SUM(W121:W128) -> 11.719274 | Y120: =SUM(Y121:Y128) -> 0.339815 | AA120: =SUM(AA121:AA128) -> 0 | AR120: 1 | AT120: D | AU120: 1 | AY120: ROZPOCET | BK120: =SUM(BK121:BK128) -> 0
C121: 1 | D121: K | E121: 612460252 | F121: Vnútorná omietka stien vápennocementová štuková (jemná), hr. 4 mm | J121: m2 | K121: 25.55 | N121: =ROUND(L121*K121,2) -> 0 | U121: znížená | V121: 0.34768 | W121: =V121*K121 -> 8.883224 | X121: 0.00819 | Y121: =X121*K121 -> 0.2092545 | Z121: 0 | AA121: =Z121*K121 -> 0 | AR121: 4 | AT121: K | AU121: 2 | AY121: ROZPOCET | BE121: =IF(U121="základná",N121,0) -> 0 | BF121: =IF(U121="znížená",N121,0) -> 0 | BG121: =IF(U121="zákl. prenesená",N121,0) -> 0 | BH121: =IF(U121="zníž. prenesená",N121,0) -> 0 | BI121: =IF(U121="nulová",N121,0) -> 0 | BJ121: 2 | BK121: =ROUND(L121*K121,2) -> 0 | BL121: 4 | BM121: -1280039727
C122: 2 | D122: K | E122: 612481119 | F122: Potiahnutie vnútorných stien sklotextílnou mriežkou s celoplošným prilepením | J122: m2 | K122: 25.55 | N122: =ROUND(L122*K122,2) -> 0 | U122: znížená | V122: 0.111 | W122: =V122*K122 -> 2.83605 | X122: 0.00511 | Y122: =X122*K122 -> 0.1305605 | Z122: 0 | AA122: =Z122*K122 -> 0 | AR122: 4 | AT122: K | AU122: 2 | AY122: ROZPOCET | BE122: =IF(U122="základná",N122,0) -> 0 | BF122: =IF(U122="znížená",N122,0) -> 0 | BG122: =IF(U122="zákl. prenesená",N122,0) -> 0 | BH122: =IF(U122="zníž. prenesená",N122,0) -> 0 | BI122: =IF(U122="nulová",N122,0) -> 0 | BJ122: 2 | BK122: =ROUND(L122*K122,2) -> 0 | BL122: 4 | BM122: 1559295663
F123: okolo okien a vrát | AT123: VV | AU123: 2 | AV123: 1 | AW123: True | AX123: 0 | AY123: ROZPOCET
F124: 0,2*(5,425+1,785*2)*8 | K124: 14.392 | AT124: VV | AU124: 2 | AV124: 2 | AW124: True | AX124: 0 | AY124: ROZPOCET
F125: 0,2*(4,75+1,785*2)*2 | K125: 3.328 | AT125: VV | AU125: 2 | AV125: 2 | AW125: True | AX125: 0 | AY125: ROZPOCET
F126: 0,2*(4,75+1,185*2)*3 | K126: 4.272 | AT126: VV | AU126: 2 | AV126: 2 | AW126: True | AX126: 0 | AY126: ROZPOCET
F127: 0,2*(4,75+4,1*2+0,8+2,02*2) | K127: 3.558 | AT127: VV | AU127: 2 | AV127: 2 | AW127: True | AX127: 0 | AY127: ROZPOCET
F128: Súčet | K128: 25.55 | AT128: VV | AU128: 2 | AV128: 4 | AW128: True | AX128: 1 | AY128: ROZPOCET
D129: 9 - Ostatné konštrukcie a práce-búranie | N129: =BK129 -> 0 | W129: =SUM(W130:W142) -> 141.17827 | Y129: =SUM(Y130:Y142) -> 0 | AA129: =SUM(AA130:AA142) -> 3.24698 | AR129: 1 | AT129: D | AU129: 1 | AY129: ROZPOCET | BK129: =SUM(BK130:BK142) -> 0
C130: 3 | D130: K | E130: 968071115 | F130: Demontáž okien kovových, 1 bm obvodu - 0,005t | J130: m | K130: 338.44 | N130: =ROUND(L130*K130,2) -> 0 | U130: znížená | V130: 0.344 | W130: =V130*K130 -> 116.42336 | X130: 0 | Y130: =X130*K130 -> 0 | Z130: 0.005 | AA130: =Z130*K130 -> 1.6922 | AR130: 4 | AT130: K | AU130: 2 | AY130: ROZPOCET | BE130: =IF(U130="základná",N130,0) -> 0 | BF130: =IF(U130="znížená",N130,0) -> 0 | BG130: =IF(U130="zákl. prenesená",N130,0) -> 0 | BH130: =IF(U130="zníž. prenesená",N130,0) -> 0 | BI130: =IF(U130="nulová",N130,0) -> 0 | BJ130: 2 | BK130: =ROUND(L130*K130,2) -> 0 | BL130: 4 | BM130: -195666392
F131: (1,3+1,75)*2*46 | K131: 280.6 | AT131: VV | AU131: 2 | AV131: 2 | AW131: True | AX131: 0 | AY131: ROZPOCET
F132: (1,225+1,185)*2*12 | K132: 57.84 | AT132: VV | AU132: 2 | AV132: 2 | AW132: True | AX132: 0 | AY132: ROZPOCET
F133: Súčet | K133: 338.44 | AT133: VV | AU133: 2 | AV133: 4 | AW133: True | AX133: 1 | AY133: ROZPOCET
C134: 4 | D134: K | E134: 968072559 | F134: Vybúranie kovových vrát plochy nad 5 m2, -0,06600t | J134: m2 | K134: 22.55 | N134: =ROUND(L134*K134,2) -> 0 | U134: znížená | V134: 0.29 | W134: =V134*K134 -> 6.5395 | X134: 0 | Y134: =X134*K134 -> 0 | Z134: 0.066 | AA134: =Z134*K134 -> 1.4883 | AR134: 4 | AT134: K | AU134: 2 | AY134: ROZPOCET | BE134: =IF(U134="základná",N134,0) -> 0 | BF134: =IF(U134="znížená",N134,0) -> 0 | BG134: =IF(U134="zákl. prenesená",N134,0) -> 0 | BH134: =IF(U134="zníž. prenesená",N134,0) -> 0 | BI134: =IF(U134="nulová",N134,0) -> 0 | BJ134: 2 | BK134: =ROUND(L134*K134,2) -> 0 | BL134: 4 | BM134: 1897777162
F135: 5,5*4,1 | K135: 22.55 | AT135: VV | AU135: 2 | AV135: 2 | AW135: True | AX135: 1 | AY135: ROZPOCET
C136: 5 | D136: K | E136: 968081116 | F136: Demontáž dverí plastových vchodových, 1 bm obvodu - 0,012t | J136: m | K136: 5.54 | N136: =ROUND(L136*K136,2) -> 0 | U136: znížená | V136: 0.377 | W136: =V136*K136 -> 2.08858 | X136: 0 | Y136: =X136*K136 -> 0 | Z136: 0.012 | AA136: =Z136*K136 -> 0.06648 | AR136: 4 | AT136: K | AU136: 2 | AY136: ROZPOCET | BE136: =IF(U136="základná",N136,0) -> 0 | BF136: =IF(U136="znížená",N136,0) -> 0 | BG136: =IF(U136="zákl. prenesená",N136,0) -> 0 | BH136: =IF(U136="zníž. prenesená",N136,0) -> 0 | BI136: =IF(U136="nulová",N136,0) -> 0 | BJ136: 2 | BK136: =ROUND(L136*K136,2) -> 0 | BL136: 4 | BM136: 1526097173
F137: (0,8+1,97)*2 | K137: 5.54 | AT137: VV | AU137: 2 | AV137: 2 | AW137: True | AX137: 1 | AY137: ROZPOCET
C138: 6 | D138: K | E138: 979011111 | F138: Zvislá doprava sutiny a vybúraných hmôt za prvé podlažie nad alebo pod základným podlažím | J138: t | K138: 6.443 | N138: =ROUND(L138*K138,2) -> 0 | U138: znížená | V138: 0.882 | W138: =V138*K138 -> 5.682726 | X138: 0 | Y138: =X138*K138 -> 0 | Z138: 0 | AA138: =Z138*K138 -> 0 | AR138: 4 | AT138: K | AU138: 2 | AY138: ROZPOCET | BE138: =IF(U138="základná",N138,0) -> 0 | BF138: =IF(U138="znížená",N138,0) -> 0 | BG138: =IF(U138="zákl. prenesená",N138,0) -> 0 | BH138: =IF(U138="zníž. prenesená",N138,0) -> 0 | BI138: =IF(U138="nulová",N138,0) -> 0 | BJ138: 2 | BK138: =ROUND(L138*K138,2) -> 0 | BL138: 4 | BM138: 426765376
C139: 7 | D139: K | E139: 979081111 | F139: Odvoz sutiny a vybúraných hmôt na skládku do 1 km | J139: t | K139: 6.443 | N139: =ROUND(L139*K139,2) -> 0 | U139: znížená | V139: 0.598 | W139: =V139*K139 -> 3.852914 | X139: 0 | Y139: =X139*K139 -> 0 | Z139: 0 | AA139: =Z139*K139 -> 0 | AR139: 4 | AT139: K | AU139: 2 | AY139: ROZPOCET | BE139: =IF(U139="základná",N139,0) -> 0 | BF139: =IF(U139="znížená",N139,0) -> 0 | BG139: =IF(U139="zákl. prenesená",N139,0) -> 0 | BH139: =IF(U139="zníž. prenesená",N139,0) -> 0 | BI139: =IF(U139="nulová",N139,0) -> 0 | BJ139: 2 | BK139: =ROUND(L139*K139,2) -> 0 | BL139: 4 | BM139: 1343416452
C140: 8 | D140: K | E140: 979081121 | F140: Odvoz sutiny a vybúraných hmôt na skládku za každý ďalší 1 km | J140: t | K140: 122.417 | N140: =ROUND(L140*K140,2) -> 0 | U140: znížená | V140: 0.007 | W140: =V140*K140 -> 0.856919 | X140: 0 | Y140: =X140*K140 -> 0 | Z140: 0 | AA140: =Z140*K140 -> 0 | AR140: 4 | AT140: K | AU140: 2 | AY140: ROZPOCET | BE140: =IF(U140="základná",N140,0) -> 0 | BF140: =IF(U140="znížená",N140,0) -> 0 | BG140: =IF(U140="zákl. prenesená",N140,0) -> 0 | BH140: =IF(U140="zníž. prenesená",N140,0) -> 0 | BI140: =IF(U140="nulová",N140,0) -> 0 | BJ140: 2 | BK140: =ROUND(L140*K140,2) -> 0 | BL140: 4 | BM140: 399528085
C141: 9 | D141: K | E141: 979082111 | F141: Vnútrostavenisková doprava sutiny a vybúraných hmôt do 10 m | J141: t | K141: 6.443 | N141: =ROUND(L141*K141,2) -> 0 | U141: znížená | V141: 0.89 | W141: =V141*K141 -> 5.73427 | X141: 0 | Y141: =X141*K141 -> 0 | Z141: 0 | AA141: =Z141*K141 -> 0 | AR141: 4 | AT141: K | AU141: 2 | AY141: ROZPOCET | BE141: =IF(U141="základná",N141,0) -> 0 | BF141: =IF(U141="znížená",N141,0) -> 0 | BG141: =IF(U141="zákl. prenesená",N141,0) -> 0 | BH141: =IF(U141="zníž. prenesená",N141,0) -> 0 | BI141: =IF(U141="nulová",N141,0) -> 0 | BJ141: 2 | BK141: =ROUND(L141*K141,2) -> 0 | BL141: 4 | BM141: -1788789737
C142: 10 | D142: K | E142: 979089612 | F142: Poplatok za skladovanie - iné odpady zo stavieb a demolácií (17 09), ostatné | J142: t | K142: 6.443 | N142: =ROUND(L142*K142,2) -> 0 | U142: znížená | V142: 0 | W142: =V142*K142 -> 0 | X142: 0 | Y142: =X142*K142 -> 0 | Z142: 0 | AA142: =Z142*K142 -> 0 | AR142: 4 | AT142: K | AU142: 2 | AY142: ROZPOCET | BE142: =IF(U142="základná",N142,0) -> 0 | BF142: =IF(U142="znížená",N142,0) -> 0 | BG142: =IF(U142="zákl. prenesená",N142,0) -> 0 | BH142: =IF(U142="zníž. prenesená",N142,0) -> 0 | BI142: =IF(U142="nulová",N142,0) -> 0 | BJ142: 2 | BK142: =ROUND(L142*K142,2) -> 0 | BL142: 4 | BM142: 1598031637
D143: 99 - Presun hmôt HSV | N143: =BK143 -> 0 | W143: =W144 -> 0.83742 | Y143: =Y144 -> 0 | AA143: =AA144 -> 0 | AR143: 1 | AT143: D | AU143: 1 | AY143: ROZPOCET | BK143: =BK144 -> 0
C144: 11 | D144: K | E144: 999281111 | F144: Presun hmôt pre opravy a údržbu objektov vrátane vonkajších plášťov výšky do 25 m | J144: t | K144: 0.34 | N144: =ROUND(L144*K144,2) -> 0 | U144: znížená | V144: 2.463 | W144: =V144*K144 -> 0.83742 | X144: 0 | Y144: =X144*K144 -> 0 | Z144: 0 | AA144: =Z144*K144 -> 0 | AR144: 4 | AT144: K | AU144: 2 | AY144: ROZPOCET | BE144: =IF(U144="základná",N144,0) -> 0 | BF144: =IF(U144="znížená",N144,0) -> 0 | BG144: =IF(U144="zákl. prenesená",N144,0) -> 0 | BH144: =IF(U144="zníž. prenesená",N144,0) -> 0 | BI144: =IF(U144="nulová",N144,0) -> 0 | BJ144: 2 | BK144: =ROUND(L144*K144,2) -> 0 | BL144: 4 | BM144: 1103767620
D145: PSV - Práce a dodávky PSV | N145: =BK145 -> 0 | W145: =W146+W152+W171+W178 -> 229.65052 | Y145: =Y146+Y152+Y171+Y178 -> 1.705539 | AA145: =AA146+AA152+AA171+AA178 -> 3.1958645 | AR145: 2 | AT145: D | AU145: 0 | AY145: ROZPOCET | BK145: =BK146+BK152+BK171+BK178 -> 0
D146: 764 - Konštrukcie klampiarske | N146: =BK146 -> 0 | W146: =SUM(W147:W151) -> 59.157266 | Y146: =SUM(Y147:Y151) -> 0.290096 | AA146: =SUM(AA147:AA151) -> 0.0592245 | AR146: 2 | AT146: D | AU146: 1 | AY146: ROZPOCET | BK146: =SUM(BK147:BK151) -> 0
C147: 12 | D147: K | E147: 764410460 | F147: Oplechovanie parapetov z pozinkovaného farbeného PZf plechu, vrátane rohov r.š. 400 mm - K/3 | J147: m | K147: 69.4 | N147: =ROUND(L147*K147,2) -> 0 | U147: znížená | V147: 0.656 | W147: =V147*K147 -> 45.5264 | X147: 0.0035 | Y147: =X147*K147 -> 0.2429 | Z147: 0 | AA147: =Z147*K147 -> 0 | AR147: 16 | AT147: K | AU147: 2 | AY147: ROZPOCET | BE147: =IF(U147="základná",N147,0) -> 0 | BF147: =IF(U147="znížená",N147,0) -> 0 | BG147: =IF(U147="zákl. prenesená",N147,0) -> 0 | BH147: =IF(U147="zníž. prenesená",N147,0) -> 0 | BI147: =IF(U147="nulová",N147,0) -> 0 | BJ147: 2 | BK147: =ROUND(L147*K147,2) -> 0 | BL147: 16 | BM147: -78352410
C148: 13 | D148: K | E148: 764410850 | F148: Demontáž oplechovania parapetov rš od 100 do 330 mm, -0,00135t | J148: m | K148: 42.95 | N148: =ROUND(L148*K148,2) -> 0 | U148: znížená | V148: 0.075 | W148: =V148*K148 -> 3.22125 | X148: 0 | Y148: =X148*K148 -> 0 | Z148: 0.00135 | AA148: =Z148*K148 -> 0.0579825 | AR148: 16 | AT148: K | AU148: 2 | AY148: ROZPOCET | BE148: =IF(U148="základná",N148,0) -> 0 | BF148: =IF(U148="znížená",N148,0) -> 0 | BG148: =IF(U148="zákl. prenesená",N148,0) -> 0 | BH148: =IF(U148="zníž. prenesená",N148,0) -> 0 | BI148: =IF(U148="nulová",N148,0) -> 0 | BJ148: 2 | BK148: =ROUND(L148*K148,2) -> 0 | BL148: 16 | BM148: 1790428123
C149: 14 | D149: K | E149: 764421460 | F149: Oplechovanie ríms a ozdobných prvkov z pozinkovaného farbeného PZf plechu, r.š. 400 mm - K/5 | J149: m | K149: 13.8 | N149: =ROUND(L149*K149,2) -> 0 | U149: znížená | V149: 0.69832 | W149: =V149*K149 -> 9.636816 | X149: 0.00342 | Y149: =X149*K149 -> 0.047196 | Z149: 0 | AA149: =Z149*K149 -> 0 | AR149: 16 | AT149: K | AU149: 2 | AY149: ROZPOCET | BE149: =IF(U149="základná",N149,0) -> 0 | BF149: =IF(U149="znížená",N149,0) -> 0 | BG149: =IF(U149="zákl. prenesená",N149,0) -> 0 | BH149: =IF(U149="zníž. prenesená",N149,0) -> 0 | BI149: =IF(U149="nulová",N149,0) -> 0 | BJ149: 2 | BK149: =ROUND(L149*K149,2) -> 0 | BL149: 16 | BM149: -1160009119
C150: 15 | D150: K | E150: 764421830 | F150: Demontáž oplechovania ríms rš od 100 do 200 mm, -0,00009 t | J150: m | K150: 13.8 | N150: =ROUND(L150*K150,2) -> 0 | U150: znížená | V150: 0.056 | W150: =V150*K150 -> 0.7728 | X150: 0 | Y150: =X150*K150 -> 0 | Z150: 9e-05 | AA150: =Z150*K150 -> 0.001242 | AR150: 16 | AT150: K | AU150: 2 | AY150: ROZPOCET | BE150: =IF(U150="základná",N150,0) -> 0 | BF150: =IF(U150="znížená",N150,0) -> 0 | BG150: =IF(U150="zákl. prenesená",N150,0) -> 0 | BH150: =IF(U150="zníž. prenesená",N150,0) -> 0 | BI150: =IF(U150="nulová",N150,0) -> 0 | BJ150: 2 | BK150: =ROUND(L150*K150,2) -> 0 | BL150: 16 | BM150: -256284025
C151: 16 | D151: K | E151: 998764202 | F151: Presun hmôt pre konštrukcie klampiarske v objektoch výšky nad 6 do 12 m | J151: % | K151: 13.973 | N151: =ROUND(L151*K151,2) -> 0 | U151: znížená | V151: 0 | W151: =V151*K151 -> 0 | X151: 0 | Y151: =X151*K151 -> 0 | Z151: 0 | AA151: =Z151*K151 -> 0 | AR151: 16 | AT151: K | AU151: 2 | AY151: ROZPOCET | BE151: =IF(U151="základná",N151,0) -> 0 | BF151: =IF(U151="znížená",N151,0) -> 0 | BG151: =IF(U151="zákl. prenesená",N151,0) -> 0 | BH151: =IF(U151="zníž. prenesená",N151,0) -> 0 | BI151: =IF(U151="nulová",N151,0) -> 0 | BJ151: 2 | BK151: =ROUND(L151*K151,2) -> 0 | BL151: 16 | BM151: 428941030
D152: 766 - Konštrukcie stolárske | N152: =BK152 -> 0 | W152: =SUM(W153:W170) -> 103.39348 | Y152: =SUM(Y153:Y170) -> 1.3043565 | AA152: =SUM(AA153:AA170) -> 0 | AR152: 2 | AT152: D | AU152: 1 | AY152: ROZPOCET | BK152: =SUM(BK153:BK170) -> 0
C153: 17 | D153: K | E153: 766621404 | F153: Montáž okien plastových za 1 bm obvodu montáže | J153: m | K153: 177.11 | N153: =ROUND(L153*K153,2) -> 0 | U153: znížená | V153: 0.565 | W153: =V153*K153 -> 100.06715 | X153: 0.00021 | Y153: =X153*K153 -> 0.0371931 | Z153: 0 | AA153: =Z153*K153 -> 0 | AR153: 16 | AT153: K | AU153: 2 | AY153: ROZPOCET | BE153: =IF(U153="základná",N153,0) -> 0 | BF153: =IF(U153="znížená",N153,0) -> 0 | BG153: =IF(U153="zákl. prenesená",N153,0) -> 0 | BH153: =IF(U153="zníž. prenesená",N153,0) -> 0 | BI153: =IF(U153="nulová",N153,0) -> 0 | BJ153: 2 | BK153: =ROUND(L153*K153,2) -> 0 | BL153: 16 | BM153: 1316317733
F154: O1 | AT154: VV | AU154: 2 | AV154: 1 | AW154: True | AX154: 0 | AY154: ROZPOCET
F155: (5,425+1,785)*2*8 | K155: 115.36 | AT155: VV | AU155: 2 | AV155: 2 | AW155: True | AX155: 0 | AY155: ROZPOCET
F156: O2 | AT156: VV | AU156: 2 | AV156: 1 | AW156: True | AX156: 0 | AY156: ROZPOCET
F157: (4,75+1,785)*2*2 | K157: 26.14 | AT157: VV | AU157: 2 | AV157: 2 | AW157: True | AX157: 0 | AY157: ROZPOCET
F158: O3 | AT158: VV | AU158: 2 | AV158: 1 | AW158: True | AX158: 0 | AY158: ROZPOCET
F159: (4,75+1,185)*2*3 | K159: 35.61 | AT159: VV | AU159: 2 | AV159: 2 | AW159: True | AX159: 0 | AY159: ROZPOCET
F160: Súčet | K160: 177.11 | AT160: VV | AU160: 2 | AV160: 4 | AW160: True | AX160: 1 | AY160: ROZPOCET
C161: 18A | D161: M | E161: 611410004701 | F161: Plastové okno – dolný rad okien - otváravo-sklopné - jednokrídlové štvordielne 2xOS+2xP, vxš 1785x5425 mm, izolačné trojsklo, 6 komorový profil, vrátane vnútorného parapetu a štrbinového vetrania - O1, podľa popisu výrobkov v PD Stredná časť podľa popisu výrobkov PD Stredná časť podľa popisu výrobkov PD | J161: ks | K161: 4 | N161: =ROUND(L161*K161,2) -> 0 | U161: znížená | V161: 0 | W161: =V161*K161 -> 0 | X161: 0.072 | Y161: =X161*K161 -> 0.288 | Z161: 0 | AA161: =Z161*K161 -> 0 | AR161: 32 | AT161: M | AU161: 2 | AY161: ROZPOCET | BE161: =IF(U161="základná",N161,0) -> 0 | BF161: =IF(U161="znížená",N161,0) -> 0 | BG161: =IF(U161="zákl. prenesená",N161,0) -> 0 | BH161: =IF(U161="zníž. prenesená",N161,0) -> 0 | BI161: =IF(U161="nulová",N161,0) -> 0 | BJ161: 2 | BK161: =ROUND(L161*K161,2) -> 0 | BL161: 16 | BM161: 406907475
...

Sheet 04 - Ostatné
D1: Hárok obsahuje: | F1: 1) Krycí list rozpočtu | H1: 2) Rekapitulácia rozpočtu | L1: 3) Rozpočet | O1: Späť na hárok: | S1: Rekapitulácia stavby
C2: optimalizované pre tlač zostáv vo formáte A4 - na výšku | S2: >> skryté stĺpce << | AT2: {ea3a6c42-8e58-411c-a0da-ee125edc713d}
AT3: 0
C4: KRYCÍ LIST ROZPOČTU | T4: v --- nižšie sa nachádzajú doplnkové a pomocné údaje k zostavám --- v | AT4: False
D6: Stavba: | F6: ='Rekapitulácia stavby'!K6 -> Zníženie energetickej náročnosti spoločnosti Kovomont-PO, Výrobná hala č.1 + administratívna budova
D7: Objekt: | F7: 04 - SO 102 - Hala 1 - Ostatné
D8: JKSO: | M8: KS:
D9: Miesto: | F9: Prešov | M9: Dátum: | O9: ='Rekapitulácia stavby'!AN8 -> 43896
D11: Objednávateľ: | M11: IČO:
E12: Kovomont - PO s.r.o., Prešov | M12: IČO DPH:
D14: Zhotoviteľ: | M14: IČO: | O14: =IF('Rekapitulácia stavby'!AN13="","",'Rekapitulácia stavby'!AN13)
E15: =IF('Rekapitulácia stavby'!E14="","",'Rekapitulácia stavby'!E14) | M15: IČO DPH: | O15: =IF('Rekapitulácia stavby'!AN14="","",'Rekapitulácia stavby'!AN14)
D17: Projektant: | M17: IČO:
E18: ing. M. Kovaľ, Prešov | M18: IČO DPH:
D20: Spracovateľ: | M20: IČO: | O20: =IF('Rekapitulácia stavby'!AN19="","",'Rekapitulácia stavby'!AN19)
E21: =IF('Rekapitulácia stavby'!E20="","",'Rekapitulácia stavby'!E20) | M21: IČO DPH: | O21: =IF('Rekapitulácia stavby'!AN20="","",'Rekapitulácia stavby'!AN20)
D23: Poznámka:
D27: Náklady z rozpočtu | M27: =N88 -> 0
D28: Ostatné náklady | M28: =N96 -> 0
D30: Cena bez DPH | M30: =ROUND(M27+M28,2) -> 0
D32: DPH | E32: základná | F32: 0.2 | G32: z | H32: =ROUND((SUM(BE96:BE97)+SUM(BE115:BE126)), 2) -> 0 | M32: =ROUND(ROUND((SUM(BE96:BE97)+SUM(BE115:BE126)), 2)*F32, 2) -> 0
E33: znížená | F33: 0.2 | G33: z | H33: =ROUND((SUM(BF96:BF97)+SUM(BF115:BF126)), 2) -> 0 | M33: =ROUND(ROUND((SUM(BF96:BF97)+SUM(BF115:BF126)), 2)*F33, 2) -> 0
E34: zákl. prenesená | F34: 0.2 | G34: z | H34: =ROUND((SUM(BG96:BG97)+SUM(BG115:BG126)), 2) -> 0 | M34: 0
E35: zníž. prenesená | F35: 0.2 | G35: z | H35: =ROUND((SUM(BH96:BH97)+SUM(BH115:BH126)), 2) -> 0 | M35: 0
E36: nulová | F36: 0 | G36: z | H36: =ROUND((SUM(BI96:BI97)+SUM(BI115:BI126)), 2) -> 0 | M36: 0
D38: Cena s DPH | G38: v | H38: EUR | L38: =SUM(M30:M36) -> 0
D50: Projektant | J50: Spracovateľ
D59: Dátum a podpis: | G59: Pečiatka | J59: Dátum a podpis: | N59: Pečiatka
D61: Objednávateľ | J61: Zhotoviteľ
D70: Dátum a podpis: | G70: Pečiatka | J70: Dátum a podpis: | N70: Pečiatka
C76: REKAPITULÁCIA ROZPOČTU
C78: Stavba: | F78: =F6 -> Zníženie energetickej náročnosti spoločnosti Kovomont-PO, Výrobná hala č.1 + administratívna budova
C79: Objekt: | F79: =F7 -> 04 - SO 102 - Hala 1 - Ostatné
C81: Miesto: | F81: =F9 -> Prešov | K81: Dátum: | M81: =IF(O9="","",O9) -> 43896
C83: Objednávateľ: | F83: =E12 -> Kovomont - PO s.r.o., Prešov | K83: Projektant: | M83: =E18 -> ing. M. Kovaľ, Prešov
C84: Zhotoviteľ: | F84: =IF(E15="","",E15) | K84: Spracovateľ: | M84: =E21
C86: Kód - Popis | N86: Cena celkom [EUR]
C88: 1) Náklady z rozpočtu | N88: =N115 -> 0 | AU88: -1
D89: PSV - Práce a dodávky PSV | N89: =N116 -> 0
D90: 733 - Ústredné kúrenie | N90: =N117 -> 0
D91: 767 - Konštrukcie doplnkové kovové | N91: =N122 -> 0
D92: 783 - Nátery | N92: =N125 -> 0
D93: M - Práce a dodávky M | N93: =N129 -> 0
D94: 21-M - Elektromontáže | N94: =N130 -> 0
C96: 2) Ostatné náklady | N96: 0 | U96: DPH
C98: Celkové náklady za stavbu 1) + 2) | L98: =ROUND(SUM(N88+N96),2) -> 0
C104: ROZPOČET
C106: Stavba: | F106: =F6 -> Zníženie energetickej náročnosti spoločnosti Kovomont-PO, Výrobná hala č.1 + administratívna budova
C107: Objekt: | F107: =F7 -> 04 - SO 102 - Hala 1 - Ostatné
C109: Miesto: | F109: =F9 -> Prešov | K109: Dátum: | M109: =IF(O9="","",O9) -> 43896
C111: Objednávateľ: | F111: =E12 -> Kovomont - PO s.r.o., Prešov | K111: Projektant: | M111: =E18 -> ing. M. Kovaľ, Prešov
C112: Zhotoviteľ: | F112: =IF(E15="","",E15) | K112: Spracovateľ: | M112: =E21
C114: PČ | D114: Typ | E114: Kód | F114: Popis | J114: MJ | K114: Množstvo | L114: J.cena [EUR] | N114: Cena celkom [EUR] | T114: Poznámka | U114: DPH | V114: J. Nh [h] | W114: Nh celkom [h] | X114: J. hmotnosť_x000D_ [t] | Y114: Hmotnosť_x000D_ celkom [t] | Z114: J. suť [t] | AA114: Suť Celkom [t]
C115: Náklady z rozpočtu | N115: =N116+N129 -> 0 | W115: =W116+#REF! -> #REF! | Y115: =Y116+#REF! -> #REF! | AA115: =AA116+#REF! -> #REF! | AT115: D | AU115: -1 | BK115: =BK116+#REF! -> #REF!
D116: PSV - Práce a dodávky PSV | N116: =N117+N122+N125 -> 0 | W116: =W117+W122 -> 0 | Y116: =Y117+Y122 -> 0 | AA116: =AA117+AA122 -> 0 | AR116: 2 | AT116: D | AU116: 0 | AY116: ROZPOCET | BK116: =BK117+BK122 -> 0
D117: 733 - Ústredné kúrenie | N117: =SUM(N118:Q121) -> 0 | W117: =SUM(W118:W121) -> 0 | Y117: =SUM(Y118:Y121) -> 0 | AA117: =SUM(AA118:AA121) -> 0 | AR117: 2 | AT117: D | AU117: 1 | AY117: ROZPOCET | BK117: =SUM(BK118:BK121) -> 0
C118: 1 | D118: K | E118: 7331001a | F118: Dodávka - UVK - vetracia jednotka s rekuperáciou (napr. HOVAL RoofVent RP-9-M) s dvoma tepelnými čerpadlami (TP-9-M/ST.D1)vrátane príslušenstva ( spojovací modul, kondenzačné čerpadlo) | J118: ks | K118: 1 | N118: =ROUND(L118*K118,3) -> 0 | U118: znížená | V118: 0 | W118: =V118*K118 -> 0 | X118: 0 | Y118: =X118*K118 -> 0 | Z118: 0 | AA118: =Z118*K118 -> 0 | AR118: 16 | AT118: K | AU118: 2 | AY118: ROZPOCET | BE118: =IF(U118="základná",N118,0) -> 0 | BF118: =IF(U118="znížená",N118,0) -> 0 | BG118: =IF(U118="zákl. prenesená",N118,0) -> 0 | BH118: =IF(U118="zníž. prenesená",N118,0) -> 0 | BI118: =IF(U118="nulová",N118,0) -> 0 | BJ118: 2 | BK118: =ROUND(L118*K118,3) -> 0 | BL118: 16 | BM118: -1535514080
C119: 2 | D119: K | E119: 7331001b | F119: Dodávka - UVK - Cirkulačná jednotka (napr.HOVAL TopVent TP-9-M) s dvoma tepelnými čerpadlami (TP-9-M/ST.D1) vrátane príslušenstva (závesná sada, kondenzačné čerpadlo, filtračná komora) | J119: ks | K119: 1 | N119: =ROUND(L119*K119,3) -> 0
C120: 3 | D120: K | E120: 7331001c | F120: Dodávka - UVK - autonómna regulácia zóny, ptr tepelné čerpadlá, vrátane rozvádzača a kombinovaného snímača kvality vzduchu, teploty priestoru a vlhkosti (npr. HOVAL typ TTC) | J120: ks | K120: 1 | N120: =ROUND(L120*K120,3) -> 0
C121: 4 | D121: K | E121: 7331002 | F121: Montáž - vetracia jednotka s tepelnými čerpadlami | J121: ks | K121: 2 | N121: =ROUND(L121*K121,3) -> 0 | U121: znížená | V121: 0 | W121: =V121*K121 -> 0 | X121: 0 | Y121: =X121*K121 -> 0 | Z121: 0 | AA121: =Z121*K121 -> 0 | AR121: 16 | AT121: K | AU121: 2 | AY121: ROZPOCET | BE121: =IF(U121="základná",N121,0) -> 0 | BF121: =IF(U121="znížená",N121,0) -> 0 | BG121: =IF(U121="zákl. prenesená",N121,0) -> 0 | BH121: =IF(U121="zníž. prenesená",N121,0) -> 0 | BI121: =IF(U121="nulová",N121,0) -> 0 | BJ121: 2 | BK121: =ROUND(L121*K121,3) -> 0 | BL121: 16 | BM121: -1051494536
D122: 767 - Konštrukcie doplnkové kovové | N122: =SUM(N123:Q124) -> 0 | W122: =SUM(W123:W124) -> 0 | Y122: =SUM(Y123:Y124) -> 0 | AA122: =SUM(AA123:AA124) -> 0 | AR122: 2 | AT122: D | AU122: 1 | AY122: ROZPOCET | BK122: =SUM(BK123:BK124) -> 0
C123: 5 | D123: K | E123: 767100100 | F123: Demontáž, spätná montáž a povrchová úprava rebríka na strechu | J123: ks | K123: 1 | N123: =ROUND(L123*K123,3) -> 0 | U123: znížená | V123: 0 | W123: =V123*K123 -> 0 | X123: 0 | Y123: =X123*K123 -> 0 | Z123: 0 | AA123: =Z123*K123 -> 0 | AR123: 16 | AT123: K | AU123: 2 | AY123: ROZPOCET | BE123: =IF(U123="základná",N123,0) -> 0 | BF123: =IF(U123="znížená",N123,0) -> 0 | BG123: =IF(U123="zákl. prenesená",N123,0) -> 0 | BH123: =IF(U123="zníž. prenesená",N123,0) -> 0 | BI123: =IF(U123="nulová",N123,0) -> 0 | BJ123: 2 | BK123: =ROUND(L123*K123,3) -> 0 | BL123: 16 | BM123: -2043944951
C124: 6 | D124: K | E124: 998767202 | F124: Presun hmôt pre kovové stavebné doplnkové konštrukcie v objektoch výšky nad 6 do 12 m | J124: % | K124: 3.813 | N124: =ROUND(L124*K124,3) -> 0 | U124: znížená | V124: 0 | W124: =V124*K124 -> 0 | X124: 0 | Y124: =X124*K124 -> 0 | Z124: 0 | AA124: =Z124*K124 -> 0 | AR124: 16 | AT124: K | AU124: 2 | AY124: ROZPOCET | BE124: =IF(U124="základná",N124,0) -> 0 | BF124: =IF(U124="znížená",N124,0) -> 0 | BG124: =IF(U124="zákl. prenesená",N124,0) -> 0 | BH124: =IF(U124="zníž. prenesená",N124,0) -> 0 | BI124: =IF(U124="nulová",N124,0) -> 0 | BJ124: 2 | BK124: =ROUND(L124*K124,3) -> 0 | BL124: 16 | BM124: -1238963033
D125: 783 - Nátery | N125: =SUM(N126:Q128) -> 0 | W125: =SUM(W126:W128) -> 4.66625 | Y125: =SUM(Y126:Y128) -> 0.00925 | AA125: =SUM(AA126:AA128) -> 0 | AR125: 2 | AT125: D | AU125: 1 | AY125: ROZPOCET | BK125: =SUM(BK126:BK128) -> 0
C126: 7 | D126: K | E126: 783401812 | F126: Odstránenie starých náterov z kovových potrubí a armatúr potrubie do DN 100 | J126: m | K126: 25 | N126: =ROUND(L126*K126,3) -> 0 | U126: znížená | V126: 0.011 | W126: =V126*K126 -> 0.275 | X126: 0 | Y126: =X126*K126 -> 0 | Z126: 0 | AA126: =Z126*K126 -> 0 | AR126: 16 | AT126: K | AU126: 2 | AY126: ROZPOCET | BE126: =IF(U126="základná",N126,0) -> 0 | BF126: =IF(U126="znížená",N126,0) -> 0 | BG126: =IF(U126="zákl. prenesená",N126,0) -> 0 | BH126: =IF(U126="zníž. prenesená",N126,0) -> 0 | BI126: =IF(U126="nulová",N126,0) -> 0 | BJ126: 2 | BK126: =ROUND(L126*K126,3) -> 0 | BL126: 16 | BM126: -260209707
C127: 8 | D127: K | E127: 783421211 | F127: Nátery kov.potr.a armatúr v kanáloch a šachtách syntetické armatúr do DN 100 mm jednonás. 1x s emailovaním - 70µm | J127: ks | K127: 25 | N127: =ROUND(L127*K127,3) -> 0 | U127: znížená | V127: 0.1294 | W127: =V127*K127 -> 3.235 | X127: 0.00023 | Y127: =X127*K127 -> 0.00575 | Z127: 0 | AA127: =Z127*K127 -> 0 | AR127: 16 | AT127: K | AU127: 2 | AY127: ROZPOCET | BE127: =IF(U127="základná",N127,0) -> 0 | BF127: =IF(U127="znížená",N127,0) -> 0 | BG127: =IF(U127="zákl. prenesená",N127,0) -> 0 | BH127: =IF(U127="zníž. prenesená",N127,0) -> 0 | BI127: =IF(U127="nulová",N127,0) -> 0 | BJ127: 2 | BK127: =ROUND(L127*K127,3) -> 0 | BL127: 16 | BM127: -1211031035
C128: 9 | D128: K | E128: 783421711 | F128: Nátery kov.potr.a armatúr v kanáloch a šachtách syntetické armatúr do DN 100 mm základný - 35µm | J128: ks | K128: 25 | N128: =ROUND(L128*K128,3) -> 0 | U128: znížená | V128: 0.04625 | W128: =V128*K128 -> 1.15625 | X128: 0.00014 | Y128: =X128*K128 -> 0.0035 | Z128: 0 | AA128: =Z128*K128 -> 0 | AR128: 16 | AT128: K | AU128: 2 | AY128: ROZPOCET | BE128: =IF(U128="základná",N128,0) -> 0 | BF128: =IF(U128="znížená",N128,0) -> 0 | BG128: =IF(U128="zákl. prenesená",N128,0) -> 0 | BH128: =IF(U128="zníž. prenesená",N128,0) -> 0 | BI128: =IF(U128="nulová",N128,0) -> 0 | BJ128: 2 | BK128: =ROUND(L128*K128,3) -> 0 | BL128: 16 | BM128: 90714002
D129: M - Práce a dodávky M | N129: =N130 -> 0 | W129: =W130 -> 0 | Y129: =Y130 -> 0 | AA129: =AA130 -> 0 | AR129: 3 | AT129: D | AU129: 0 | AY129: ROZPOCET | BK129: =BK130 -> 0
D130: 21-M - Elektromontáže | N130: =SUM(N131:Q135) -> 0 | W130: =SUM(W131:W135) -> 0 | Y130: =SUM(Y131:Y135) -> 0 | AA130: =SUM(AA131:AA135) -> 0 | AR130: 3 | AT130: D | AU130: 1 | AY130: ROZPOCET | BK130: =SUM(BK131:BK135) -> 0
C131: 12 | D131: K | E131: 2101001 | F131: Demontáž halogénové vnútorné svietidlá | J131: ks | K131: 19 | N131: =ROUND(L131*K131,3) -> 0
C132: 13 | D132: K | E132: 210203040 | F132: Montáž a zapojenie stropného LED svietidla | J132: ks | K132: 28 | N132: =ROUND(L132*K132,3) -> 0
C133: 14 | D133: M | E133: 348130002400a | F133: Stropné svietidlo (napr. TESLA LED High Bay, IL2615xx-6CHE) - počet LED čipov - 506 ks, účinnosť - 160 lm/W, Svetelný výkon - 24 000 lm | J133: ks | K133: 19 | N133: =ROUND(L133*K133,3) -> 0
C134: 15 | D134: M | E134: 348130002400b | F134: Stropné svietidlo - lokálne prisvetlenie pracovnej stanice LED reflektor 50W, 3775 lm, 120°, životnosť 40 tis. Nh | J134: ks | K134: 9 | N134: =ROUND(L134*K134,3) -> 0
C135: 16 | D135: K | E135: PM | F135: Podružný materiál | J135: % | K135: 147.624 | N135: =ROUND(L135*K135,3) -> 0 | U135: znížená | V135: 0 | W135: =V135*K135 -> 0 | X135: 0 | Y135: =X135*K135 -> 0 | Z135: 0 | AA135: =Z135*K135 -> 0 | AR135: 64 | AT135: K | AU135: 2 | AY135: ROZPOCET | BE135: =IF(U135="základná",N135,0) -> 0 | BF135: =IF(U135="znížená",N135,0) -> 0 | BG135: =IF(U135="zákl. prenesená",N135,0) -> 0 | BH135: =IF(U135="zníž. prenesená",N135,0) -> 0 | BI135: =IF(U135="nulová",N135,0) -> 0 | BJ135: 2 | BK135: =ROUND(L135*K135,3) -> 0 | BL135: 64 | BM135: -1504468292

Sheet 05 - AB - Ostatné
D1: Hárok obsahuje: | F1: 1) Krycí list rozpočtu | H1: 2) Rekapitulácia rozpočtu | L1: 3) Rozpočet | O1: Späť na hárok: | S1: Rekapitulácia stavby
C2: optimalizované pre tlač zostáv vo formáte A4 - na výšku | S2: >> skryté stĺpce << | AT2: {ea3a6c42-8e58-411c-a0da-ee125edc713d}
AT3: 0
C4: KRYCÍ LIST ROZPOČTU | T4: v --- nižšie sa nachádzajú doplnkové a pomocné údaje k zostavám --- v | AT4: False
D6: Stavba: | F6: ='[1]Rekapitulácia stavby - NETLACIT'!K6 -> Zníženie energetickej náročnosti spoločnosti Kovomont-PO, Výrobná hala č.1 + administratívna budova
D7: Objekt: | F7: 05 - SO 101 - Administratívna budova - Ostatné
D8: JKSO: | M8: KS:
D9: Miesto: | F9: Prešov | M9: Dátum: | O9: 43896
D11: Objednávateľ: | M11: IČO:
E12: Kovomont - PO s.r.o., Prešov | M12: IČO DPH:
D14: Zhotoviteľ: | M14: IČO: | O14: =IF('[1]Rekapitulácia stavby - NETLACIT'!AN13="","",'[1]Rekapitulácia stavby - NETLACIT'!AN13)
E15: =IF('[1]Rekapitulácia stavby - NETLACIT'!E14="","",'[1]Rekapitulácia stavby - NETLACIT'!E14) | M15: IČO DPH: | O15: =IF('[1]Rekapitulácia stavby - NETLACIT'!AN14="","",'[1]Rekapitulácia stavby - NETLACIT'!AN14)
D17: Projektant: | M17: IČO:
E18: ing. M. Kovaľ, Prešov | M18: IČO DPH:
D20: Spracovateľ: | M20: IČO: | O20: =IF('[1]Rekapitulácia stavby - NETLACIT'!AN19="","",'[1]Rekapitulácia stavby - NETLACIT'!AN19)
E21: =IF('[1]Rekapitulácia stavby - NETLACIT'!E20="","",'[1]Rekapitulácia stavby - NETLACIT'!E20) | M21: IČO DPH: | O21: =IF('[1]Rekapitulácia stavby - NETLACIT'!AN20="","",'[1]Rekapitulácia stavby - NETLACIT'!AN20)
D23: Poznámka:
D27: Náklady z rozpočtu | M27: =N88 -> 0
D28: Ostatné náklady | M28: =N94 -> 0
D30: Cena bez DPH | M30: =ROUND(M27+M28,2) -> 0
D32: DPH | E32: základná | F32: 0.2 | G32: z | H32: =ROUND((SUM(BE94:BE95)+SUM(BE113:BE117)), 2) -> 0 | M32: =ROUND(ROUND((SUM(BE94:BE95)+SUM(BE113:BE117)), 2)*F32, 2) -> 0
E33: znížená | F33: 0.2 | G33: z | H33: =ROUND((SUM(BF94:BF95)+SUM(BF113:BF117)), 2) -> 0 | M33: =ROUND(ROUND((SUM(BF94:BF95)+SUM(BF113:BF117)), 2)*F33, 2) -> 0
E34: zákl. prenesená | F34: 0.2 | G34: z | H34: =ROUND((SUM(BG94:BG95)+SUM(BG113:BG117)), 2) -> 0 | M34: 0
E35: zníž. prenesená | F35: 0.2 | G35: z | H35: =ROUND((SUM(BH94:BH95)+SUM(BH113:BH117)), 2) -> 0 | M35: 0
E36: nulová | F36: 0 | G36: z | H36: =ROUND((SUM(BI94:BI95)+SUM(BI113:BI117)), 2) -> 0 | M36: 0
D38: Cena s DPH | G38: v | H38: EUR | L38: =SUM(M30:M36) -> 0
D50: Projektant | J50: Spracovateľ
D59: Dátum a podpis: | G59: Pečiatka | J59: Dátum a podpis: | N59: Pečiatka
D61: Objednávateľ | J61: Zhotoviteľ
D70: Dátum a podpis: | G70: Pečiatka | J70: Dátum a podpis: | N70: Pečiatka
C76: REKAPITULÁCIA ROZPOČTU
C78: Stavba: | F78: =F6 -> Zníženie energetickej náročnosti spoločnosti Kovomont-PO, Výrobná hala č.1 + administratívna budova
C79: Objekt: | F79: =F7 -> 05 - SO 101 - Administratívna budova - Ostatné
C81: Miesto: | F81: =F9 -> Prešov | K81: Dátum: | M81: =IF(O9="","",O9) -> 43896
C83: Objednávateľ: | F83: =E12 -> Kovomont - PO s.r.o., Prešov | K83: Projektant: | M83: =E18 -> ing. M. Kovaľ, Prešov
C84: Zhotoviteľ: | F84: =IF(E15="","",E15) | K84: Spracovateľ: | M84: =E21
C86: Kód - Popis | N86: Cena celkom [EUR]
C88: 1) Náklady z rozpočtu | N88: =N113 -> 0 | AU88: -1
D89: PSV - Práce a dodávky PSV | N89: =N114 -> 0
D90: 733 - Ústredné kúrenie | N90: =N115 -> 0
D91: M - Práce a dodávky M | N91: =N118 -> 0
D92: 21-M - Elektromontáže | N92: =N119 -> 0
C94: 2) Ostatné náklady | N94: 0 | U94: DPH
C96: Celkové náklady za stavbu 1) + 2) | L96: =ROUND(SUM(N88+N94),2) -> 0
C102: ROZPOČET
C104: Stavba: | F104: =F6 -> Zníženie energetickej náročnosti spoločnosti Kovomont-PO, Výrobná hala č.1 + administratívna budova
C105: Objekt: | F105: =F7 -> 05 - SO 101 - Administratívna budova - Ostatné
C107: Miesto: | F107: =F9 -> Prešov | K107: Dátum: | M107: =IF(O9="","",O9) -> 43896
C109: Objednávateľ: | F109: =E12 -> Kovomont - PO s.r.o., Prešov | K109: Projektant: | M109: =E18 -> ing. M. Kovaľ, Prešov
C110: Zhotoviteľ: | F110: =IF(E15="","",E15) | K110: Spracovateľ: | M110: =E21
C112: PČ | D112: Typ | E112: Kód | F112: Popis | J112: MJ | K112: Množstvo | L112: J.cena [EUR] | N112: Cena celkom [EUR] | T112: Poznámka | U112: DPH | V112: J. Nh [h] | W112: Nh celkom [h] | X112: J. hmotnosť_x000D_ [t] | Y112: Hmotnosť_x000D_ celkom [t] | Z112: J. suť [t] | AA112: Suť Celkom [t]
C113: Náklady z rozpočtu | N113: =N114+N118 -> 0 | W113: =W114+#REF! -> #REF! | Y113: =Y114+#REF! -> #REF! | AA113: =AA114+#REF! -> #REF! | AT113: D | AU113: -1 | BK113: =BK114+#REF! -> #REF!
D114: PSV - Práce a dodávky PSV | N114: =N115 -> 0 | W114: =W115+#REF! -> #REF! | Y114: =Y115+#REF! -> #REF! | AA114: =AA115+#REF! -> #REF! | AR114: 2 | AT114: D | AU114: 0 | AY114: ROZPOCET | BK114: =BK115+#REF! -> #REF!
D115: 733 - Ústredné kúrenie | N115: =SUM(N116:Q117) -> 0 | W115: =SUM(#REF!) -> #REF! | Y115: =SUM(#REF!) -> #REF! | AA115: =SUM(#REF!) -> #REF! | AR115: 2 | AT115: D | AU115: 1 | AY115: ROZPOCET | BK115: =SUM(#REF!) -> #REF!
C116: 1 | D116: K | E116: 7331001b | F116: Dodávka - UVK - Administratívna budova - 2x tepelné čerpadlo (vzduch – voda) , Nominálny vykurovací výkon (A7/W35) – cca 14,0 kW, Maximálny vykurovací výkon (A-7/W35) 11,30 kW , Nominálny chladiaci výkon (A35/W18) 14,00 kW, Vonkajšia prevádzková teplota kúrenia -20 ~ 30 °C, Externý zásobník TUV s objemom 300 l a jedným výmenníkom vrátane izolácie, Zásobník a regulačné príslušenstvo (trojcestný ventil, expanzná nádoba 18l, teplotné čídlo, vypúšťací a expanzný ventil), Konzola pod TČ s upevnením na zem, antivibračné podložky, prepojovacie potrubie, guľové ventily, fitingy, spojky, šróbenia a izolácia Mirelon 10mm, v celkovej dĺžke 6m | J116: ks | K116: 1 | N116: =ROUND(L116*K116,3) -> 0
C117: 2 | D117: K | E117: 7331002 | F117: Montáž - tepelné čerpadlo - zostava so zásobníkom TÚV | J117: ks | K117: 2 | N117: =ROUND(L117*K117,3) -> 0 | U117: znížená | V117: 0 | W117: =V117*K117 -> 0 | X117: 0 | Y117: =X117*K117 -> 0 | Z117: 0 | AA117: =Z117*K117 -> 0 | AR117: 16 | AT117: K | AU117: 2 | AY117: ROZPOCET | BE117: =IF(U117="základná",N117,0) -> 0 | BF117: =IF(U117="znížená",N117,0) -> 0 | BG117: =IF(U117="zákl. prenesená",N117,0) -> 0 | BH117: =IF(U117="zníž. prenesená",N117,0) -> 0 | BI117: =IF(U117="nulová",N117,0) -> 0 | BJ117: 2 | BK117: =ROUND(L117*K117,3) -> 0 | BL117: 16 | BM117: -1051494536
D118: M - Práce a dodávky M | N118: =N119 -> 0 | W118: =W119 -> 0 | Y118: =Y119 -> 0 | AA118: =AA119 -> 0 | AR118: 3 | AT118: D | AU118: 0 | AY118: ROZPOCET | BK118: =BK119 -> 0
D119: 21-M - Elektromontáže | N119: =SUM(N120:Q124) -> 0 | W119: =SUM(W120:W124) -> 0 | Y119: =SUM(Y120:Y124) -> 0 | AA119: =SUM(AA120:AA124) -> 0 | AR119: 3 | AT119: D | AU119: 1 | AY119: ROZPOCET | BK119: =SUM(BK120:BK124) -> 0
C120: 3 | D120: K | E120: 2101001 | F120: Demontáž exist. vnútorné svietidlá | J120: ks | K120: 34 | N120: =ROUND(L120*K120,3) -> 0
C121: 4 | D121: K | E121: 210203040 | F121: Montáž a zapojenie stropného LED svietidla | J121: ks | K121: 35 | N121: =ROUND(L121*K121,3) -> 0
C122: 5 | D122: M | E122: 348130002400 | F122: LED panel 600x600 mm studená biela 40W | J122: ks | K122: 25 | N122: =ROUND(L122*K122,3) -> 0
C123: 6 | D123: M | E123: 348130002401 | F123: Stropná LED žiarovka 15 W | J123: ks | K123: 10 | N123: =ROUND(L123*K123,3) -> 0
C124: 7 | D124: K | E124: PM | F124: Podružný materiál | J124: % | K124: 147.624 | N124: =ROUND(L124*K124,3) -> 0 | U124: znížená | V124: 0 | W124: =V124*K124 -> 0 | X124: 0 | Y124: =X124*K124 -> 0 | Z124: 0 | AA124: =Z124*K124 -> 0 | AR124: 64 | AT124: K | AU124: 2 | AY124: ROZPOCET | BE124: =IF(U124="základná",N124,0) -> 0 | BF124: =IF(U124="znížená",N124,0) -> 0 | BG124: =IF(U124="zákl. prenesená",N124,0) -> 0 | BH124: =IF(U124="zníž. prenesená",N124,0) -> 0 | BI124: =IF(U124="nulová",N124,0) -> 0 | BJ124: 2 | BK124: =ROUND(L124*K124,3) -> 0 | BL124: 64 | BM124: -1504468292
