Workbook

Sheet Rekapitulácia stavby
A1: 2012 | D1: Hárok obsahuje: | K1: 1) Súhrnný list stavby | W1: 2) Rekapitulácia objektov | BA1: 2.0 | BT1: False | BU1: False
C2: optimalizované pre tlač zostáv vo formáte A4 - na výšku | AR2: >> skryté stĺpce << | BS2: 0,01 | BT2: 20
BS3: 0,01 | BT3: 20
C4: SÚHRNNÝ LIST STAVBY | AS4: v --- nižšie sa nachádzajú doplnkové a pomocné údaje k zostavám --- v | BS4: 0,001
D5: Kód: | K5: 1119 | BS5: 0,01
D6: Stavba: | K6: Zníženie energetickej náročnosti spoločnosti Kovomont-PO, Výrobná hala č.1 + administratívna budova | BS6: 0,01
D7: JKSO: | AK7: KS: | BS7: 0,01
D8: Miesto: | K8: Prešov | AK8: Dátum: | AN8: 43896 | BS8: 0,01
BS9: 0,01
D10: Objednávateľ: | AK10: IČO: | BS10: 0,01
E11: Kovomont - PO s.r.o., Prešov | AK11: IČO DPH: | BS11: 0,01
BS12: 0,01
D13: Zhotoviteľ: | AK13: IČO: | BS13: 0,01
AK14: IČO DPH: | BS14: 0,01
BS15: False
D16: Projektant: | AK16: IČO: | BS16: False
E17: ing. M. Kovaľ, Prešov | AK17: IČO DPH: | BS17: True
BS18: 0,01
D19: Spracovateľ: | AK19: IČO: | BS19: 0,01
AK20: IČO DPH:
D22: Poznámka:
D26: Náklady z rozpočtov | AK26: =ROUND(AG87,2) -> 0
D27: Ostatné náklady zo súhrnného listu | AK27: =ROUND(AG94,2) -> 0
D29: Cena bez DPH | AK29: =ROUND(AK26+AK27,2) -> 0
D31: DPH | F31: základná | L31: 0.2 | T31: z | W31: 0 | AK31: =0.2*W31 -> 0
F32: znížená | L32: 0.2 | T32: z | W32: =AK29 -> 0 | AK32: =0.2*W32 -> 0
F33: zákl. prenesená | L33: 0.2 | T33: z | W33: =ROUND(BB87+SUM(CF95),2) -> #REF! | AK33: 0
F34: zníž. prenesená | L34: 0.2 | T34: z | W34: =ROUND(BC87+SUM(CG95),2) -> #REF! | AK34: 0
F35: nulová | L35: 0 | T35: z | W35: =ROUND(BD87+SUM(CH95),2) -> #REF! | AK35: 0
D37: Cena s DPH | T37: v | X37: EUR | AK37: =SUM(AK29:AK35) -> 0
D49: Projektant | AC49: Spracovateľ
D58: Dátum a podpis: | R58: Pečiatka | AC58: Dátum a podpis: | AM58: Pečiatka
D60: Objednávateľ | AC60: Zhotoviteľ
D69: Dátum a podpis: | R69: Pečiatka | AC69: Dátum a podpis: | AM69: Pečiatka
C76: REKAPITULÁCIA OBJEKTOV STAVBY
C77: Kód: | L77: =K5 -> 1119
C78: Stavba: | L78: =K6 -> Zníženie energetickej náročnosti spoločnosti Kovomont-PO, Výrobná hala č.1 + administratívna budova
C80: Miesto: | L80: =IF(K8="","",K8) -> Prešov | AI80: Dátum: | AM80: =AN8 -> 43896
C82: Objednávateľ: | L82: =IF(E11= "","",E11) -> Kovomont - PO s.r.o., Prešov | AI82: Projektant: | AM82: =IF(E17="","",E17) -> ing. M. Kovaľ, Prešov | AS82: Informatívne údaje z listov zákaziek
C83: Zhotoviteľ: | L83: =IF(E14="","",E14) | AI83: Spracovateľ: | AM83: =IF(E20="","",E20)
...

Sheet 01 - Zateplenie obvodovýc...
D1: Hárok obsahuje: | F1: 1) Krycí list rozpočtu | H1: 2) Rekapitulácia rozpočtu | L1: 3) Rozpočet | O1: Späť na hárok: | S1: Rekapitulácia stavby
C2: optimalizované pre tlač zostáv vo formáte A4 - na výšku | S2: >> skryté stĺpce << | AT2: {97f5ca0b-9e30-4fd4-ba44-79fcdda6c024}
AT3: 0
C4: KRYCÍ LIST ROZPOČTU | T4: v --- nižšie sa nachádzajú doplnkové a pomocné údaje k zostavám --- v | AT4: False
D6: Stavba: | F6: ='Rekapitulácia stavby'!K6 -> Zníženie energetickej náročnosti spoločnosti Kovomont-PO, Výrobná hala č.1 + administratívna budova
D7: Objekt: | F7: 01 - SO 102 - Hala 1 - Zateplenie obvodových stien
D8: JKSO: | M8: KS:
D9: Miesto: | F9: Prešov | M9: Dátum: | O9: ='Rekapitulácia stavby'!AN8 -> 43896
D11: Objednávateľ: | M11: IČO:
E12: Kovomont - PO s.r.o., Prešov | M12: IČO DPH:
D14: Zhotoviteľ: | M14: IČO: | O14: =IF('Rekapitulácia stavby'!AN13="","",'Rekapitulácia stavby'!AN13)
E15: =IF('Rekapitulácia stavby'!E14="","",'Rekapitulácia stavby'!E14) | M15: IČO DPH: | O15: =IF('Rekapitulácia stavby'!AN14="","",'Rekapitulácia stavby'!AN14)
D17: Projektant: | M17: IČO:
E18: ing. M. Kovaľ, Prešov | M18: IČO DPH:
D20: Spracovateľ: | M20: IČO: | O20: =IF('Rekapitulácia stavby'!AN19="","",'Rekapitulácia stavby'!AN19)
E21: =IF('Rekapitulácia stavby'!E20="","",'Rekapitulácia stavby'!E20) | M21: IČO DPH: | O21: =IF('Rekapitulácia stavby'!AN20="","",'Rekapitulácia stavby'!AN20)
D23: Poznámka:
D27: Náklady z rozpočtu | M27: =N88 -> 0
D28: Ostatné náklady | M28: =N94 -> 0
D30: Cena bez DPH | M30: =ROUND(M27+M28,2) -> 0
D32: DPH | E32: základná | F32: 0.2 | G32: z | H32: =ROUND((SUM(BE94:BE95)+SUM(BE113:BE144)), 2) -> 0 | M32: =ROUND(ROUND((SUM(BE94:BE95)+SUM(BE113:BE144)), 2)*F32, 2) -> 0
E33: znížená | F33: 0.2 | G33: z | H33: =ROUND((SUM(BF94:BF95)+SUM(BF113:BF144)), 2) -> 0 | M33: =ROUND(ROUND((SUM(BF94:BF95)+SUM(BF113:BF144)), 2)*F33, 2) -> 0
E34: zákl. prenesená | F34: 0.2 | G34: z | H34: =ROUND((SUM(BG94:BG95)+SUM(BG113:BG144)), 2) -> 0 | M34: 0
E35: zníž. prenesená | F35: 0.2 | G35: z | H35: =ROUND((SUM(BH94:BH95)+SUM(BH113:BH144)), 2) -> 0 | M35: 0
E36: nulová | F36: 0 | G36: z | H36: =ROUND((SUM(BI94:BI95)+SUM(BI113:BI144)), 2) -> 0 | M36: 0
D38: Cena s DPH | G38: v | H38: EUR | L38: =SUM(M30:M36) -> 0
D50: Projektant | J50: Spracovateľ
D59: Dátum a podpis: | G59: Pečiatka | J59: Dátum a podpis: | N59: Pečiatka
D61: Objednávateľ | J61: Zhotoviteľ
D70: Dátum a podpis: | G70: Pečiatka | J70: Dátum a podpis: | N70: Pečiatka
C76: REKAPITULÁCIA ROZPOČTU
C78: Stavba: | F78: =F6 -> Zníženie energetickej náročnosti spoločnosti Kovomont-PO, Výrobná hala č.1 + administratívna budova
C79: Objekt: | F79: =F7 -> 01 - SO 102 - Hala 1 - Zateplenie obvodových stien
C81: Miesto: | F81: =F9 -> Prešov | K81: Dátum: | M81: =IF(O9="","",O9) -> 43896
C83: Objednávateľ: | F83: =E12 -> Kovomont - PO s.r.o., Prešov | K83: Projektant: | M83: =E18 -> ing. M. Kovaľ, Prešov
C84: Zhotoviteľ: | F84: =IF(E15="","",E15) | K84: Spracovateľ: | M84: =E21
C86: Kód - Popis | N86: Cena celkom [EUR]
C88: 1) Náklady z rozpočtu | N88: =N113 -> 0 | AU88: -1
D89: HSV - Práce a dodávky HSV | N89: =N114 -> 0
D90: 6 - Úpravy povrchov, podlahy, osadenie | N90: =N115 -> 0
...

Sheet 02 - Zateplenie strechy
D1: Hárok obsahuje: | F1: 1) Krycí list rozpočtu | H1: 2) Rekapitulácia rozpočtu | L1: 3) Rozpočet | O1: Späť na hárok: | S1: Rekapitulácia stavby
C2: optimalizované pre tlač zostáv vo formáte A4 - na výšku | S2: >> skryté stĺpce << | AT2: {654d6d05-fff5-40f6-94a7-79a6dac6285f}
AT3: 0
C4: KRYCÍ LIST ROZPOČTU | T4: v --- nižšie sa nachádzajú doplnkové a pomocné údaje k zostavám --- v | AT4: False
D6: Stavba: | F6: ='Rekapitulácia stavby'!K6 -> Zníženie energetickej náročnosti spoločnosti Kovomont-PO, Výrobná hala č.1 + administratívna budova
D7: Objekt: | F7: 02 - SO 102 - Hala 1 - Zateplenie strechy
D8: JKSO: | M8: KS:
D9: Miesto: | F9: Prešov | M9: Dátum: | O9: ='Rekapitulácia stavby'!AN8 -> 43896
D11: Objednávateľ: | M11: IČO:
E12: Kovomont - PO s.r.o., Prešov | M12: IČO DPH:
D14: Zhotoviteľ: | M14: IČO: | O14: =IF('Rekapitulácia stavby'!AN13="","",'Rekapitulácia stavby'!AN13)
E15: =IF('Rekapitulácia stavby'!E14="","",'Rekapitulácia stavby'!E14) | M15: IČO DPH: | O15: =IF('Rekapitulácia stavby'!AN14="","",'Rekapitulácia stavby'!AN14)
D17: Projektant: | M17: IČO:
E18: ing. M. Kovaľ, Prešov | M18: IČO DPH:
D20: Spracovateľ: | M20: IČO: | O20: =IF('Rekapitulácia stavby'!AN19="","",'Rekapitulácia stavby'!AN19)
E21: =IF('Rekapitulácia stavby'!E20="","",'Rekapitulácia stavby'!E20) | M21: IČO DPH: | O21: =IF('Rekapitulácia stavby'!AN20="","",'Rekapitulácia stavby'!AN20)
D23: Poznámka:
D27: Náklady z rozpočtu | M27: =N88 -> 0
D28: Ostatné náklady | M28: =N100 -> 0
D30: Cena bez DPH | M30: =ROUND(M27+M28,2) -> 0
D32: DPH | E32: základná | F32: 0.2 | G32: z | H32: =ROUND((SUM(BE100:BE101)+SUM(BE119:BE163)), 2) -> 0 | M32: =ROUND(ROUND((SUM(BE100:BE101)+SUM(BE119:BE163)), 2)*F32, 2) -> 0
E33: znížená | F33: 0.2 | G33: z | H33: =ROUND((SUM(BF100:BF101)+SUM(BF119:BF163)), 2) -> 0 | M33: =ROUND(ROUND((SUM(BF100:BF101)+SUM(BF119:BF163)), 2)*F33, 2) -> 0
E34: zákl. prenesená | F34: 0.2 | G34: z | H34: =ROUND((SUM(BG100:BG101)+SUM(BG119:BG163)), 2) -> 0 | M34: 0
E35: zníž. prenesená | F35: 0.2 | G35: z | H35: =ROUND((SUM(BH100:BH101)+SUM(BH119:BH163)), 2) -> 0 | M35: 0
E36: nulová | F36: 0 | G36: z | H36: =ROUND((SUM(BI100:BI101)+SUM(BI119:BI163)), 2) -> 0 | M36: 0
D38: Cena s DPH | G38: v | H38: EUR | L38: =SUM(M30:M36) -> 0
D50: Projektant | J50: Spracovateľ
D59: Dátum a podpis: | G59: Pečiatka | J59: Dátum a podpis: | N59: Pečiatka
D61: Objednávateľ | J61: Zhotoviteľ
D70: Dátum a podpis: | G70: Pečiatka | J70: Dátum a podpis: | N70: Pečiatka
C76: REKAPITULÁCIA ROZPOČTU
C78: Stavba: | F78: =F6 -> Zníženie energetickej náročnosti spoločnosti Kovomont-PO, Výrobná hala č.1 + administratívna budova
C79: Objekt: | F79: =F7 -> 02 - SO 102 - Hala 1 - Zateplenie strechy
C81: Miesto: | F81: =F9 -> Prešov | K81: Dátum: | M81: =IF(O9="","",O9) -> 43896
C83: Objednávateľ: | F83: =E12 -> Kovomont - PO s.r.o., Prešov | K83: Projektant: | M83: =E18 -> ing. M. Kovaľ, Prešov
C84: Zhotoviteľ: | F84: =IF(E15="","",E15) | K84: Spracovateľ: | M84: =E21
C86: Kód - Popis | N86: Cena celkom [EUR]
C88: 1) Náklady z rozpočtu | N88: =N119 -> 0 | AU88: -1
D89: HSV - Práce a dodávky HSV | N89: =N120 -> 0
D90: 9 - Ostatné konštrukcie a práce-búranie | N90: =N121 -> 0
...

Sheet 03 - Výplne otvorov
D1: Hárok obsahuje: | F1: 1) Krycí list rozpočtu | H1: 2) Rekapitulácia rozpočtu | L1: 3) Rozpočet | O1: Späť na hárok: | S1: Rekapitulácia stavby
C2: optimalizované pre tlač zostáv vo formáte A4 - na výšku | S2: >> skryté stĺpce << | AT2: {558c5fd4-af76-49f1-8d16-6e234fc38de4}
AT3: 0
C4: KRYCÍ LIST ROZPOČTU | T4: v --- nižšie sa nachádzajú doplnkové a pomocné údaje k zostavám --- v | AT4: False
D6: Stavba: | F6: ='Rekapitulácia stavby'!K6 -> Zníženie energetickej náročnosti spoločnosti Kovomont-PO, Výrobná hala č.1 + administratívna budova
D7: Objekt: | F7: 03 - SO 102 - Hala 1 - Výplne otvorov
D8: JKSO: | M8: KS:
D9: Miesto: | F9: Prešov | M9: Dátum: | O9: ='Rekapitulácia stavby'!AN8 -> 43896
D11: Objednávateľ: | M11: IČO:
E12: Kovomont - PO s.r.o., Prešov | M12: IČO DPH:
D14: Zhotoviteľ: | M14: IČO: | O14: =IF('Rekapitulácia stavby'!AN13="","",'Rekapitulácia stavby'!AN13)
E15: =IF('Rekapitulácia stavby'!E14="","",'Rekapitulácia stavby'!E14) | M15: IČO DPH: | O15: =IF('Rekapitulácia stavby'!AN14="","",'Rekapitulácia stavby'!AN14)
D17: Projektant: | M17: IČO:
E18: ing. M. Kovaľ, Prešov | M18: IČO DPH:
D20: Spracovateľ: | M20: IČO: | O20: =IF('Rekapitulácia stavby'!AN19="","",'Rekapitulácia stavby'!AN19)
E21: =IF('Rekapitulácia stavby'!E20="","",'Rekapitulácia stavby'!E20) | M21: IČO DPH: | O21: =IF('Rekapitulácia stavby'!AN20="","",'Rekapitulácia stavby'!AN20)
D23: Poznámka:
D27: Náklady z rozpočtu | M27: =N88 -> 0
D28: Ostatné náklady | M28: =N99 -> 0
D30: Cena bez DPH | M30: =ROUND(M27+M28,2) -> 0
D32: DPH | E32: základná | F32: 0.2 | G32: z | H32: =ROUND((SUM(BE99:BE100)+SUM(BE118:BE186)), 2) -> 0 | M32: =ROUND(ROUND((SUM(BE99:BE100)+SUM(BE118:BE186)), 2)*F32, 2) -> 0
E33: znížená | F33: 0.2 | G33: z | H33: =ROUND((SUM(BF99:BF100)+SUM(BF118:BF186)), 2) -> 0 | M33: =ROUND(ROUND((SUM(BF99:BF100)+SUM(BF118:BF186)), 2)*F33, 2) -> 0
E34: zákl. prenesená | F34: 0.2 | G34: z | H34: =ROUND((SUM(BG99:BG100)+SUM(BG118:BG186)), 2) -> 0 | M34: 0
E35: zníž. prenesená | F35: 0.2 | G35: z | H35: =ROUND((SUM(BH99:BH100)+SUM(BH118:BH186)), 2) -> 0 | M35: 0
E36: nulová | F36: 0 | G36: z | H36: =ROUND((SUM(BI99:BI100)+SUM(BI118:BI186)), 2) -> 0 | M36: 0
D38: Cena s DPH | G38: v | H38: EUR | L38: =SUM(M30:M36) -> 0
D50: Projektant | J50: Spracovateľ
D59: Dátum a podpis: | G59: Pečiatka | J59: Dátum a podpis: | N59: Pečiatka
D61: Objednávateľ | J61: Zhotoviteľ
D70: Dátum a podpis: | G70: Pečiatka | J70: Dátum a podpis: | N70: Pečiatka
C76: REKAPITULÁCIA ROZPOČTU
C78: Stavba: | F78: =F6 -> Zníženie energetickej náročnosti spoločnosti Kovomont-PO, Výrobná hala č.1 + administratívna budova
C79: Objekt: | F79: =F7 -> 03 - SO 102 - Hala 1 - Výplne otvorov
C81: Miesto: | F81: =F9 -> Prešov | K81: Dátum: | M81: =IF(O9="","",O9) -> 43896
C83: Objednávateľ: | F83: =E12 -> Kovomont - PO s.r.o., Prešov | K83: Projektant: | M83: =E18 -> ing. M. Kovaľ, Prešov
C84: Zhotoviteľ: | F84: =IF(E15="","",E15) | K84: Spracovateľ: | M84: =E21
C86: Kód - Popis | N86: Cena celkom [EUR]
C88: 1) Náklady z rozpočtu | N88: =N118 -> 0 | AU88: -1
D89: HSV - Práce a dodávky HSV | N89: =N119 -> 0
D90: 6 - Úpravy povrchov, podlahy, osadenie | N90: =N120 -> 0
...

Sheet 04 - Ostatné
D1: Hárok obsahuje: | F1: 1) Krycí list rozpočtu | H1: 2) Rekapitulácia rozpočtu | L1: 3) Rozpočet | O1: Späť na hárok: | S1: Rekapitulácia stavby
C2: optimalizované pre tlač zostáv vo formáte A4 - na výšku | S2: >> skryté stĺpce << | AT2: {ea3a6c42-8e58-411c-a0da-ee125edc713d}
AT3: 0
C4: KRYCÍ LIST ROZPOČTU | T4: v --- nižšie sa nachádzajú doplnkové a pomocné údaje k zostavám --- v | AT4: False
D6: Stavba: | F6: ='Rekapitulácia stavby'!K6 -> Zníženie energetickej náročnosti spoločnosti Kovomont-PO, Výrobná hala č.1 + administratívna budova
D7: Objekt: | F7: 04 - SO 102 - Hala 1 - Ostatné
D8: JKSO: | M8: KS:
D9: Miesto: | F9: Prešov | M9: Dátum: | O9: ='Rekapitulácia stavby'!AN8 -> 43896
D11: Objednávateľ: | M11: IČO:
E12: Kovomont - PO s.r.o., Prešov | M12: IČO DPH:
D14: Zhotoviteľ: | M14: IČO: | O14: =IF('Rekapitulácia stavby'!AN13="","",'Rekapitulácia stavby'!AN13)
E15: =IF('Rekapitulácia stavby'!E14="","",'Rekapitulácia stavby'!E14) | M15: IČO DPH: | O15: =IF('Rekapitulácia stavby'!AN14="","",'Rekapitulácia stavby'!AN14)
D17: Projektant: | M17: IČO:
E18: ing. M. Kovaľ, Prešov | M18: IČO DPH:
D20: Spracovateľ: | M20: IČO: | O20: =IF('Rekapitulácia stavby'!AN19="","",'Rekapitulácia stavby'!AN19)
E21: =IF('Rekapitulácia stavby'!E20="","",'Rekapitulácia stavby'!E20) | M21: IČO DPH: | O21: =IF('Rekapitulácia stavby'!AN20="","",'Rekapitulácia stavby'!AN20)
D23: Poznámka:
D27: Náklady z rozpočtu | M27: =N88 -> 0
D28: Ostatné náklady | M28: =N96 -> 0
D30: Cena bez DPH | M30: =ROUND(M27+M28,2) -> 0
D32: DPH | E32: základná | F32: 0.2 | G32: z | H32: =ROUND((SUM(BE96:BE97)+SUM(BE115:BE126)), 2) -> 0 | M32: =ROUND(ROUND((SUM(BE96:BE97)+SUM(BE115:BE126)), 2)*F32, 2) -> 0
E33: znížená | F33: 0.2 | G33: z | H33: =ROUND((SUM(BF96:BF97)+SUM(BF115:BF126)), 2) -> 0 | M33: =ROUND(ROUND((SUM(BF96:BF97)+SUM(BF115:BF126)), 2)*F33, 2) -> 0
E34: zákl. prenesená | F34: 0.2 | G34: z | H34: =ROUND((SUM(BG96:BG97)+SUM(BG115:BG126)), 2) -> 0 | M34: 0
E35: zníž. prenesená | F35: 0.2 | G35: z | H35: =ROUND((SUM(BH96:BH97)+SUM(BH115:BH126)), 2) -> 0 | M35: 0
E36: nulová | F36: 0 | G36: z | H36: =ROUND((SUM(BI96:BI97)+SUM(BI115:BI126)), 2) -> 0 | M36: 0
D38: Cena s DPH | G38: v | H38: EUR | L38: =SUM(M30:M36) -> 0
D50: Projektant | J50: Spracovateľ
D59: Dátum a podpis: | G59: Pečiatka | J59: Dátum a podpis: | N59: Pečiatka
D61: Objednávateľ | J61: Zhotoviteľ
D70: Dátum a podpis: | G70: Pečiatka | J70: Dátum a podpis: | N70: Pečiatka
C76: REKAPITULÁCIA ROZPOČTU
C78: Stavba: | F78: =F6 -> Zníženie energetickej náročnosti spoločnosti Kovomont-PO, Výrobná hala č.1 + administratívna budova
C79: Objekt: | F79: =F7 -> 04 - SO 102 - Hala 1 - Ostatné
C81: Miesto: | F81: =F9 -> Prešov | K81: Dátum: | M81: =IF(O9="","",O9) -> 43896
C83: Objednávateľ: | F83: =E12 -> Kovomont - PO s.r.o., Prešov | K83: Projektant: | M83: =E18 -> ing. M. Kovaľ, Prešov
C84: Zhotoviteľ: | F84: =IF(E15="","",E15) | K84: Spracovateľ: | M84: =E21
C86: Kód - Popis | N86: Cena celkom [EUR]
C88: 1) Náklady z rozpočtu | N88: =N115 -> 0 | AU88: -1
D89: PSV - Práce a dodávky PSV | N89: =N116 -> 0
D90: 733 - Ústredné kúrenie | N90: =N117 -> 0
...

Sheet 05 - AB - Ostatné
D1: Hárok obsahuje: | F1: 1) Krycí list rozpočtu | H1: 2) Rekapitulácia rozpočtu | L1: 3) Rozpočet | O1: Späť na hárok: | S1: Rekapitulácia stavby
C2: optimalizované pre tlač zostáv vo formáte A4 - na výšku | S2: >> skryté stĺpce << | AT2: {ea3a6c42-8e58-411c-a0da-ee125edc713d}
AT3: 0
C4: KRYCÍ LIST ROZPOČTU | T4: v --- nižšie sa nachádzajú doplnkové a pomocné údaje k zostavám --- v | AT4: False
D6: Stavba: | F6: ='[1]Rekapitulácia stavby - NETLACIT'!K6 -> Zníženie energetickej náročnosti spoločnosti Kovomont-PO, Výrobná hala č.1 + administratívna budova
D7: Objekt: | F7: 05 - SO 101 - Administratívna budova - Ostatné
D8: JKSO: | M8: KS:
D9: Miesto: | F9: Prešov | M9: Dátum: | O9: 43896
D11: Objednávateľ: | M11: IČO:
E12: Kovomont - PO s.r.o., Prešov | M12: IČO DPH:
D14: Zhotoviteľ: | M14: IČO: | O14: =IF('[1]Rekapitulácia stavby - NETLACIT'!AN13="","",'[1]Rekapitulácia stavby - NETLACIT'!AN13)
E15: =IF('[1]Rekapitulácia stavby - NETLACIT'!E14="","",'[1]Rekapitulácia stavby - NETLACIT'!E14) | M15: IČO DPH: | O15: =IF('[1]Rekapitulácia stavby - NETLACIT'!AN14="","",'[1]Rekapitulácia stavby - NETLACIT'!AN14)
D17: Projektant: | M17: IČO:
E18: ing. M. Kovaľ, Prešov | M18: IČO DPH:
D20: Spracovateľ: | M20: IČO: | O20: =IF('[1]Rekapitulácia stavby - NETLACIT'!AN19="","",'[1]Rekapitulácia stavby - NETLACIT'!AN19)
E21: =IF('[1]Rekapitulácia stavby - NETLACIT'!E20="","",'[1]Rekapitulácia stavby - NETLACIT'!E20) | M21: IČO DPH: | O21: =IF('[1]Rekapitulácia stavby - NETLACIT'!AN20="","",'[1]Rekapitulácia stavby - NETLACIT'!AN20)
D23: Poznámka:
D27: Náklady z rozpočtu | M27: =N88 -> 0
D28: Ostatné náklady | M28: =N94 -> 0
D30: Cena bez DPH | M30: =ROUND(M27+M28,2) -> 0
D32: DPH | E32: základná | F32: 0.2 | G32: z | H32: =ROUND((SUM(BE94:BE95)+SUM(BE113:BE117)), 2) -> 0 | M32: =ROUND(ROUND((SUM(BE94:BE95)+SUM(BE113:BE117)), 2)*F32, 2) -> 0
E33: znížená | F33: 0.2 | G33: z | H33: =ROUND((SUM(BF94:BF95)+SUM(BF113:BF117)), 2) -> 0 | M33: =ROUND(ROUND((SUM(BF94:BF95)+SUM(BF113:BF117)), 2)*F33, 2) -> 0
E34: zákl. prenesená | F34: 0.2 | G34: z | H34: =ROUND((SUM(BG94:BG95)+SUM(BG113:BG117)), 2) -> 0 | M34: 0
E35: zníž. prenesená | F35: 0.2 | G35: z | H35: =ROUND((SUM(BH94:BH95)+SUM(BH113:BH117)), 2) -> 0 | M35: 0
E36: nulová | F36: 0 | G36: z | H36: =ROUND((SUM(BI94:BI95)+SUM(BI113:BI117)), 2) -> 0 | M36: 0
D38: Cena s DPH | G38: v | H38: EUR | L38: =SUM(M30:M36) -> 0
D50: Projektant | J50: Spracovateľ
D59: Dátum a podpis: | G59: Pečiatka | J59: Dátum a podpis: | N59: Pečiatka
D61: Objednávateľ | J61: Zhotoviteľ
D70: Dátum a podpis: | G70: Pečiatka | J70: Dátum a podpis: | N70: Pečiatka
C76: REKAPITULÁCIA ROZPOČTU
C78: Stavba: | F78: =F6 -> Zníženie energetickej náročnosti spoločnosti Kovomont-PO, Výrobná hala č.1 + administratívna budova
C79: Objekt: | F79: =F7 -> 05 - SO 101 - Administratívna budova - Ostatné
C81: Miesto: | F81: =F9 -> Prešov | K81: Dátum: | M81: =IF(O9="","",O9) -> 43896
C83: Objednávateľ: | F83: =E12 -> Kovomont - PO s.r.o., Prešov | K83: Projektant: | M83: =E18 -> ing. M. Kovaľ, Prešov
C84: Zhotoviteľ: | F84: =IF(E15="","",E15) | K84: Spracovateľ: | M84: =E21
C86: Kód - Popis | N86: Cena celkom [EUR]
C88: 1) Náklady z rozpočtu | N88: =N113 -> 0 | AU88: -1
D89: PSV - Práce a dodávky PSV | N89: =N114 -> 0
D90: 733 - Ústredné kúrenie | N90: =N115 -> 0
...
